Workbook

Sheet ОБОБЩЕНА
A1: ПОДРОБНА СПРАВКА ОТНОСНО НЯКОЛКО ХАРАКТЕРНИ ПАРАМЕТЪРА ОТ МЕСЕЧНО ИЗДАДЕНИТЕ И ПРЕХВЪРЛЕНИ ЕЛЕКТРОННИ СЕРТИФИКАТИ ЗА ПРОИЗХОД (е-СП) НА ЕЛЕКТРИЧЕСКА ЕНЕРГИЯ ОТ ВЕКП НА ЕЕ И ТЕ
A2: ОТНОСНО: 2026 Г. - ПОСЛЕДНО ОБНОВЕНА С ДАННИТЕ ОТ ИЗДАДЕНИТЕ И ПРЕХВЪРЛЕНИ е-СП ЗА МЕСЕЦ 07.2026 Г.
A3: № | B3: Дружество и/или централа | C3: ОБЩО за централата през годината | G3: ЯНУАРИ | K3: ФЕВРУАРИ | O3: МАРТ | S3: АПРИЛ | W3: МАЙ | AA3: ЮНИ | AE3: ЮЛИ | AI3: АВГУСТ | AM3: СЕПТЕМВРИ | AQ3: ОКТОМВРИ | AU3: НОЕМВРИ | AY3: ДЕКЕМВРИ
C4: Комбинирана ТЕ | D4: Потребена ТЕ | E4: Издадени / прехвълени е-СП | F4: е-СП от ЕЕ по чл. 119, ал.1 и ал.2 от ЗЕ | G4: Комбинирана ТЕ | H4: Потребена ТЕ | I4: Издадени / прехвълени е-СП | J4: е-СП от ЕЕ по чл. 119, ал.1 и ал.2 от ЗЕ | K4: Комбинирана ТЕ | L4: Потребена ТЕ | M4: Издадени / прехвълени е-СП | N4: е-СП от ЕЕ по чл. 119, ал.1 и ал.2 от ЗЕ | O4: Комбинирана ТЕ | P4: Потребена ТЕ | Q4: Издадени / прехвълени е-СП | R4: е-СП от ЕЕ по чл. 119, ал.1 и ал.2 от ЗЕ | S4: Комбинирана ТЕ | T4: Потребена ТЕ | U4: Издадени / прехвълени е-СП | V4: е-СП от ЕЕ по чл. 119, ал.1 и ал.2 от ЗЕ | W4: Комбинирана ТЕ | X4: Потребена ТЕ | Y4: Издадени / прехвълени е-СП | Z4: е-СП от ЕЕ по чл. 119, ал.1 и ал.2 от ЗЕ | AA4: Комбинирана ТЕ | AB4: Потребена ТЕ | AC4: Издадени / прехвълени е-СП | AD4: е-СП от ЕЕ по чл. 119, ал.1 и ал.2 от ЗЕ | AE4: Комбинирана ТЕ | AF4: Потребена ТЕ | AG4: Издадени / прехвълени е-СП | AH4: е-СП от ЕЕ по чл. 119, ал.1 и ал.2 от ЗЕ | AI4: Комбинирана ТЕ | AJ4: Потребена ТЕ | AK4: Издадени / прехвълени е-СП | AL4: е-СП от ЕЕ по чл. 119, ал.1 и ал.2 от ЗЕ | AM4: Комбинирана ТЕ | AN4: Потребена ТЕ | AO4: Издадени / прехвълени е-СП | AP4: е-СП от ЕЕ по чл. 119, ал.1 и ал.2 от ЗЕ | AQ4: Комбинирана ТЕ | AR4: Потребена ТЕ | AS4: Издадени / прехвълени е-СП | AT4: е-СП от ЕЕ по чл. 119, ал.1 и ал.2 от ЗЕ | AU4: Комбинирана ТЕ | AV4: Потребена ТЕ | AW4: Издадени / прехвълени е-СП | AX4: е-СП от ЕЕ по чл. 119, ал.1 и ал.2 от ЗЕ | AY4: Комбинирана ТЕ | AZ4: Потребена ТЕ | BA4: Издадени / прехвълени е-СП | BB4: е-СП от ЕЕ по чл. 119, ал.1 и ал.2 от ЗЕ
C5: MWh | D5: MWh | E5: Бр. | F5: Бр. | G5: MWh | H5: MWh | I5: Бр. | J5: Бр. | K5: MWh | L5: MWh | M5: Бр. | N5: Бр. | O5: MWh | P5: MWh | Q5: Бр. | R5: Бр. | S5: MWh | T5: MWh | U5: Бр. | V5: Бр. | W5: MWh | X5: MWh | Y5: Бр. | Z5: Бр. | AA5: MWh | AB5: MWh | AC5: Бр. | AD5: Бр. | AE5: MWh | AF5: MWh | AG5: Бр. | AH5: Бр. | AI5: MWh | AJ5: MWh | AK5: Бр. | AL5: Бр. | AM5: MWh | AN5: MWh | AO5: Бр. | AP5: Бр. | AQ5: MWh | AR5: MWh | AS5: Бр. | AT5: Бр. | AU5: MWh | AV5: MWh | AW5: Бр. | AX5: Бр. | AY5: MWh | AZ5: MWh | BA5: Бр. | BB5: Бр.
A6: 1 | B6: „МБАЛ – Търговище“ АД | C6: =SUM(G6,K6,O6,S6,W6,AA6,AE6,AI6,AM6,AQ6,AU6,AY6) -> 0 | D6: =SUM(H6,L6,P6,T6,X6,AB6,AF6,AJ6,AN6,AR6,AV6,AZ6) -> 0 | E6: =SUM(I6,M6,Q6,U6,Y6,AC6,AG6,AK6,AO6,AS6,AW6,BA6) -> 0 | F6: =SUM(J6,N6,R6,V6,Z6,AD6,AH6,AL6,AP6,AT6,AX6,BB6) -> 0 | G6: ='01.2026'!S9 -> 0 | H6: ='01.2026'!T9 -> 0 | I6: ='01.2026'!CK9 -> 0 | J6: ='01.2026'!CF9 -> 0 | K6: ='02.2026'!S9 -> 0 | L6: ='02.2026'!T9 -> 0 | M6: ='02.2026'!CK9 -> 0 | N6: ='02.2026'!CF9 -> 0 | O6: ='03.2026'!S9 -> 0 | P6: ='03.2026'!T9 -> 0 | Q6: ='03.2026'!CK9 -> 0 | R6: ='03.2026'!CF9 -> 0 | S6: ='04.2026'!S9 -> 0 | T6: ='04.2026'!T9 -> 0 | U6: ='04.2026'!CK9 -> 0 | V6: ='04.2026'!CF9 -> 0 | W6: ='05.2026'!S9 -> 0 | X6: ='05.2026'!T9 -> 0 | Y6: ='05.2026'!CK9 -> 0 | Z6: ='05.2026'!CF9 -> 0 | AA6: ='06.2026'!S9 -> 0 | AB6: ='06.2026'!T9 -> 0 | AC6: ='06.2026'!CK9 -> 0 | AD6: ='06.2026'!CF9 -> 0 | AE6: ='07.2026'!S9 -> 0 | AF6: ='07.2026'!T9 -> 0 | AG6: ='07.2026'!CK9 -> 0 | AH6: ='07.2026'!CF9 -> 0 | AI6: ='08.2026'!S9 -> 0 | AJ6: ='08.2026'!T9 -> 0 | AK6: ='08.2026'!CK9 -> 0 | AL6: ='08.2026'!CF9 -> 0 | AM6: ='09.2026'!S9 -> 0 | AN6: ='09.2026'!T9 -> 0 | AO6: ='09.2026'!CK9 -> 0 | AP6: ='09.2026'!CF9 -> 0 | AQ6: ='10.2026'!S9 -> 0 | AR6: ='10.2026'!T9 -> 0 | AS6: ='10.2026'!CK9 -> 0 | AT6: ='10.2026'!CF9 -> 0 | AU6: ='11.2026'!S9 -> 0 | AV6: ='11.2026'!T9 -> 0 | AW6: ='11.2026'!CK9 -> 0 | AX6: ='11.2026'!CF9 -> 0 | AY6: ='12.2026'!S9 -> 0 | AZ6: ='12.2026'!T9 -> 0 | BA6: ='12.2026'!CK9 -> 0 | BB6: ='12.2026'!CF9 -> 0
A7: =A6+1 -> 2 | B7: „Юлико – Евротрейд” ЕООД | C7: =SUM(G7,K7,O7,S7,W7,AA7,AE7,AI7,AM7,AQ7,AU7,AY7) -> 2088 | D7: =SUM(H7,L7,P7,T7,X7,AB7,AF7,AJ7,AN7,AR7,AV7,AZ7) -> 1981 | E7: =SUM(I7,M7,Q7,U7,Y7,AC7,AG7,AK7,AO7,AS7,AW7,BA7) -> 1498 | F7: =SUM(J7,N7,R7,V7,Z7,AD7,AH7,AL7,AP7,AT7,AX7,BB7) -> 0 | G7: ='01.2026'!S10 -> 441 | H7: ='01.2026'!T10 -> 429 | I7: ='01.2026'!CK10 -> 305 | J7: ='01.2026'!CF10 -> 0 | K7: ='02.2026'!S10 -> 405 | L7: ='02.2026'!T10 -> 392 | M7: ='02.2026'!CK10 -> 278 | N7: ='02.2026'!CF10 -> 0 | O7: ='03.2026'!S10 -> 437 | P7: ='03.2026'!T10 -> 407 | Q7: ='03.2026'!CK10 -> 301 | R7: ='03.2026'!CF10 -> 0 | S7: ='04.2026'!S10 -> 385 | T7: ='04.2026'!T10 -> 353 | U7: ='04.2026'!CK10 -> 288 | V7: ='04.2026'!CF10 -> 0 | W7: ='05.2026'!S10 -> 240 | X7: ='05.2026'!T10 -> 230 | Y7: ='05.2026'!CK10 -> 199 | Z7: ='05.2026'!CF10 -> 0 | AA7: ='06.2026'!S10 -> 180 | AB7: ='06.2026'!T10 -> 170 | AC7: ='06.2026'!CK10 -> 127 | AD7: ='06.2026'!CF10 -> 0 | AE7: ='07.2026'!S10 -> 0 | AF7: ='07.2026'!T10 -> 0 | AG7: ='07.2026'!CK10 -> 0 | AH7: ='07.2026'!CF10 -> 0 | AI7: ='08.2026'!S10 -> 0 | AJ7: ='08.2026'!T10 -> 0 | AK7: ='08.2026'!CK10 -> 0 | AL7: ='08.2026'!CF10 -> 0 | AM7: ='09.2026'!S10 -> 0 | AN7: ='09.2026'!T10 -> 0 | AO7: ='09.2026'!CK10 -> 0 | AP7: ='09.2026'!CF10 -> 0 | AQ7: ='10.2026'!S10 -> 0 | AR7: ='10.2026'!T10 -> 0 | AS7: ='10.2026'!CK10 -> 0 | AT7: ='10.2026'!CF10 -> 0 | AU7: ='11.2026'!S10 -> 0 | AV7: ='11.2026'!T10 -> 0 | AW7: ='11.2026'!CK10 -> 0 | AX7: ='11.2026'!CF10 -> 0 | AY7: ='12.2026'!S10 -> 0 | AZ7: ='12.2026'!T10 -> 0 | BA7: ='12.2026'!CK10 -> 0 | BB7: ='12.2026'!CF10 -> 0
A8: =A7+1 -> 3 | B8: „Овердрайв” АД | C8: =SUM(G8,K8,O8,S8,W8,AA8,AE8,AI8,AM8,AQ8,AU8,AY8) -> 565.368 | D8: =SUM(H8,L8,P8,T8,X8,AB8,AF8,AJ8,AN8,AR8,AV8,AZ8) -> 565.368 | E8: =SUM(I8,M8,Q8,U8,Y8,AC8,AG8,AK8,AO8,AS8,AW8,BA8) -> 282 | F8: =SUM(J8,N8,R8,V8,Z8,AD8,AH8,AL8,AP8,AT8,AX8,BB8) -> 0 | G8: ='01.2026'!S11 -> 88.449 | H8: ='01.2026'!T11 -> 88.449 | I8: ='01.2026'!CK11 -> 44 | J8: ='01.2026'!CF11 -> 0 | K8: ='02.2026'!S11 -> 84.69 | L8: ='02.2026'!T11 -> 84.69 | M8: ='02.2026'!CK11 -> 43 | N8: ='02.2026'!CF11 -> 0 | O8: ='03.2026'!S11 -> 97.408 | P8: ='03.2026'!T11 -> 97.408 | Q8: ='03.2026'!CK11 -> 49 | R8: ='03.2026'!CF11 -> 0 | S8: ='04.2026'!S11 -> 38.308 | T8: ='04.2026'!T11 -> 38.308 | U8: ='04.2026'!CK11 -> 17 | V8: ='04.2026'!CF11 -> 0 | W8: ='05.2026'!S11 -> 39.111 | X8: ='05.2026'!T11 -> 39.111 | Y8: ='05.2026'!CK11 -> 18 | Z8: ='05.2026'!CF11 -> 0 | AA8: ='06.2026'!S11 -> 9.365 | AB8: ='06.2026'!T11 -> 9.365 | AC8: ='06.2026'!CK11 -> 3 | AD8: ='06.2026'!CF11 -> 0 | AE8: ='07.2026'!S11 -> 6.828 | AF8: ='07.2026'!T11 -> 6.828 | AG8: ='07.2026'!CK11 -> 2 | AH8: ='07.2026'!CF11 -> 0 | AI8: ='08.2026'!S11 -> 53.096 | AJ8: ='08.2026'!T11 -> 53.096 | AK8: ='08.2026'!CK11 -> 23 | AL8: ='08.2026'!CF11 -> 0 | AM8: ='09.2026'!S11 -> 148.113 | AN8: ='09.2026'!T11 -> 148.113 | AO8: ='09.2026'!CK11 -> 83 | AP8: ='09.2026'!CF11 -> 0 | AQ8: ='10.2026'!S11 -> 0 | AR8: ='10.2026'!T11 -> 0 | AS8: ='10.2026'!CK11 -> 0 | AT8: ='10.2026'!CF11 -> 0 | AU8: ='11.2026'!S11 -> 0 | AV8: ='11.2026'!T11 -> 0 | AW8: ='11.2026'!CK11 -> 0 | AX8: ='11.2026'!CF11 -> 0 | AY8: ='12.2026'!S11 -> 0 | AZ8: ='12.2026'!T11 -> 0 | BA8: ='12.2026'!CK11 -> 0 | BB8: ='12.2026'!CF11 -> 0
A9: =A8+1 -> 4 | B9: „Овергаз Мрежи“ ЕАД | C9: =SUM(G9,K9,O9,S9,W9,AA9,AE9,AI9,AM9,AQ9,AU9,AY9) -> 0 | D9: =SUM(H9,L9,P9,T9,X9,AB9,AF9,AJ9,AN9,AR9,AV9,AZ9) -> 0 | E9: =SUM(I9,M9,Q9,U9,Y9,AC9,AG9,AK9,AO9,AS9,AW9,BA9) -> 0 | F9: =SUM(J9,N9,R9,V9,Z9,AD9,AH9,AL9,AP9,AT9,AX9,BB9) -> 0 | G9: ='01.2026'!S12 -> 0 | H9: ='01.2026'!T12 -> 0 | I9: ='01.2026'!CK12 -> 0 | J9: ='01.2026'!CF12 -> 0 | K9: ='02.2026'!S12 -> 0 | L9: ='02.2026'!T12 -> 0 | M9: ='02.2026'!CK12 -> 0 | N9: ='02.2026'!CF12 -> 0 | O9: ='03.2026'!S12 -> 0 | P9: ='03.2026'!T12 -> 0 | Q9: ='03.2026'!CK12 -> 0 | R9: ='03.2026'!CF12 -> 0 | S9: ='04.2026'!S12 -> 0 | T9: ='04.2026'!T12 -> 0 | U9: ='04.2026'!CK12 -> 0 | V9: ='04.2026'!CF12 -> 0 | W9: ='05.2026'!S12 -> 0 | X9: ='05.2026'!T12 -> 0 | Y9: ='05.2026'!CK12 -> 0 | Z9: ='05.2026'!CF12 -> 0 | AA9: ='06.2026'!S12 -> 0 | AB9: ='06.2026'!T12 -> 0 | AC9: ='06.2026'!CK12 -> 0 | AD9: ='06.2026'!CF12 -> 0 | AE9: ='07.2026'!S12 -> 0 | AF9: ='07.2026'!T12 -> 0 | AG9: ='07.2026'!CK12 -> 0 | AH9: ='07.2026'!CF12 -> 0 | AI9: ='08.2026'!S12 -> 0 | AJ9: ='08.2026'!T12 -> 0 | AK9: ='08.2026'!CK12 -> 0 | AL9: ='08.2026'!CF12 -> 0 | AM9: ='09.2026'!S12 -> 0 | AN9: ='09.2026'!T12 -> 0 | AO9: ='09.2026'!CK12 -> 0 | AP9: ='09.2026'!CF12 -> 0 | AQ9: ='10.2026'!S12 -> 0 | AR9: ='10.2026'!T12 -> 0 | AS9: ='10.2026'!CK12 -> 0 | AT9: ='10.2026'!CF12 -> 0 | AU9: ='11.2026'!S12 -> 0 | AV9: ='11.2026'!T12 -> 0 | AW9: ='11.2026'!CK12 -> 0 | AX9: ='11.2026'!CF12 -> 0 | AY9: ='12.2026'!S12 -> 0 | AZ9: ='12.2026'!T12 -> 0 | BA9: ='12.2026'!CK12 -> 0 | BB9: ='12.2026'!CF12 -> 0
A10: =A9+1 -> 5 | B10: „УМБАЛ – Проф. д-р Стоян Киркович“ АД | C10: =SUM(G10,K10,O10,S10,W10,AA10,AE10,AI10,AM10,AQ10,AU10,AY10) -> 0 | D10: =SUM(H10,L10,P10,T10,X10,AB10,AF10,AJ10,AN10,AR10,AV10,AZ10) -> 0 | E10: =SUM(I10,M10,Q10,U10,Y10,AC10,AG10,AK10,AO10,AS10,AW10,BA10) -> 0 | F10: =SUM(J10,N10,R10,V10,Z10,AD10,AH10,AL10,AP10,AT10,AX10,BB10) -> 0 | G10: ='01.2026'!S13 -> 0 | H10: ='01.2026'!T13 -> 0 | I10: ='01.2026'!CK13 -> 0 | J10: ='01.2026'!CF13 -> 0 | K10: ='02.2026'!S13 -> 0 | L10: ='02.2026'!T13 -> 0 | M10: ='02.2026'!CK13 -> 0 | N10: ='02.2026'!CF13 -> 0 | O10: ='03.2026'!S13 -> 0 | P10: ='03.2026'!T13 -> 0 | Q10: ='03.2026'!CK13 -> 0 | R10: ='03.2026'!CF13 -> 0 | S10: ='04.2026'!S13 -> 0 | T10: ='04.2026'!T13 -> 0 | U10: ='04.2026'!CK13 -> 0 | V10: ='04.2026'!CF13 -> 0 | W10: ='05.2026'!S13 -> 0 | X10: ='05.2026'!T13 -> 0 | Y10: ='05.2026'!CK13 -> 0 | Z10: ='05.2026'!CF13 -> 0 | AA10: ='06.2026'!S13 -> 0 | AB10: ='06.2026'!T13 -> 0 | AC10: ='06.2026'!CK13 -> 0 | AD10: ='06.2026'!CF13 -> 0 | AE10: ='07.2026'!S13 -> 0 | AF10: ='07.2026'!T13 -> 0 | AG10: ='07.2026'!CK13 -> 0 | AH10: ='07.2026'!CF13 -> 0 | AI10: ='08.2026'!S13 -> 0 | AJ10: ='08.2026'!T13 -> 0 | AK10: ='08.2026'!CK13 -> 0 | AL10: ='08.2026'!CF13 -> 0 | AM10: ='09.2026'!S13 -> 0 | AN10: ='09.2026'!T13 -> 0 | AO10: ='09.2026'!CK13 -> 0 | AP10: ='09.2026'!CF13 -> 0 | AQ10: ='10.2026'!S13 -> 0 | AR10: ='10.2026'!T13 -> 0 | AS10: ='10.2026'!CK13 -> 0 | AT10: ='10.2026'!CF13 -> 0 | AU10: ='11.2026'!S13 -> 0 | AV10: ='11.2026'!T13 -> 0 | AW10: ='11.2026'!CK13 -> 0 | AX10: ='11.2026'!CF13 -> 0 | AY10: ='12.2026'!S13 -> 0 | AZ10: ='12.2026'!T13 -> 0 | BA10: ='12.2026'!CK13 -> 0 | BB10: ='12.2026'!CF13 -> 0
A11: =A10+1 -> 6 | B11: „Димитър Маджаров – 2” ЕООД | C11: =SUM(G11,K11,O11,S11,W11,AA11,AE11,AI11,AM11,AQ11,AU11,AY11) -> 0 | D11: =SUM(H11,L11,P11,T11,X11,AB11,AF11,AJ11,AN11,AR11,AV11,AZ11) -> 0 | E11: =SUM(I11,M11,Q11,U11,Y11,AC11,AG11,AK11,AO11,AS11,AW11,BA11) -> 0 | F11: =SUM(J11,N11,R11,V11,Z11,AD11,AH11,AL11,AP11,AT11,AX11,BB11) -> 0 | G11: ='01.2026'!S20 -> 0 | H11: ='01.2026'!T20 -> 0 | I11: ='01.2026'!CK20 -> 0 | J11: ='01.2026'!CF20 -> 0 | K11: ='02.2026'!S20 -> 0 | L11: ='02.2026'!T20 -> 0 | M11: ='02.2026'!CK20 -> 0 | N11: ='02.2026'!CF20 -> 0 | O11: ='03.2026'!S20 -> 0 | P11: ='03.2026'!T20 -> 0 | Q11: ='03.2026'!CK20 -> 0 | R11: ='03.2026'!CF20 -> 0 | S11: ='04.2026'!S20 -> 0 | T11: ='04.2026'!T20 -> 0 | U11: ='04.2026'!CK20 -> 0 | V11: ='04.2026'!CF20 -> 0 | W11: ='05.2026'!S20 -> 0 | X11: ='05.2026'!T20 -> 0 | Y11: ='05.2026'!CK20 -> 0 | Z11: ='05.2026'!CF20 -> 0 | AA11: ='06.2026'!S20 -> 0 | AB11: ='06.2026'!T20 -> 0 | AC11: ='06.2026'!CK20 -> 0 | AD11: ='06.2026'!CF20 -> 0 | AE11: ='07.2026'!S20 -> 0 | AF11: ='07.2026'!T20 -> 0 | AG11: ='07.2026'!CK20 -> 0 | AH11: ='07.2026'!CF20 -> 0 | AI11: ='08.2026'!S20 -> 0 | AJ11: ='08.2026'!T20 -> 0 | AK11: ='08.2026'!CK20 -> 0 | AL11: ='08.2026'!CF20 -> 0 | AM11: ='09.2026'!S20 -> 0 | AN11: ='09.2026'!T20 -> 0 | AO11: ='09.2026'!CK20 -> 0 | AP11: ='09.2026'!CF20 -> 0 | AQ11: ='10.2026'!S20 -> 0 | AR11: ='10.2026'!T20 -> 0 | AS11: ='10.2026'!CK20 -> 0 | AT11: ='10.2026'!CF20 -> 0 | AU11: ='11.2026'!S20 -> 0 | AV11: ='11.2026'!T20 -> 0 | AW11: ='11.2026'!CK20 -> 0 | AX11: ='11.2026'!CF20 -> 0 | AY11: ='12.2026'!S20 -> 0 | AZ11: ='12.2026'!T20 -> 0 | BA11: ='12.2026'!CK20 -> 0 | BB11: ='12.2026'!CF20 -> 0
A12: =A11+1 -> 7 | B12: „Алт Ко” ЕООД | C12: =SUM(G12,K12,O12,S12,W12,AA12,AE12,AI12,AM12,AQ12,AU12,AY12) -> 0 | D12: =SUM(H12,L12,P12,T12,X12,AB12,AF12,AJ12,AN12,AR12,AV12,AZ12) -> 0 | E12: =SUM(I12,M12,Q12,U12,Y12,AC12,AG12,AK12,AO12,AS12,AW12,BA12) -> 0 | F12: =SUM(J12,N12,R12,V12,Z12,AD12,AH12,AL12,AP12,AT12,AX12,BB12) -> 0 | G12: ='01.2026'!S21 -> 0 | H12: ='01.2026'!T21 -> 0 | I12: ='01.2026'!CK21 -> 0 | J12: ='01.2026'!CF21 -> 0 | K12: ='02.2026'!S21 -> 0 | L12: ='02.2026'!T21 -> 0 | M12: ='02.2026'!CK21 -> 0 | N12: ='02.2026'!CF21 -> 0 | O12: ='03.2026'!S21 -> 0 | P12: ='03.2026'!T21 -> 0 | Q12: ='03.2026'!CK21 -> 0 | R12: ='03.2026'!CF21 -> 0 | S12: ='04.2026'!S21 -> 0 | T12: ='04.2026'!T21 -> 0 | U12: ='04.2026'!CK21 -> 0 | V12: ='04.2026'!CF21 -> 0 | W12: ='05.2026'!S21 -> 0 | X12: ='05.2026'!T21 -> 0 | Y12: ='05.2026'!CK21 -> 0 | Z12: ='05.2026'!CF21 -> 0 | AA12: ='06.2026'!S21 -> 0 | AB12: ='06.2026'!T21 -> 0 | AC12: ='06.2026'!CK21 -> 0 | AD12: ='06.2026'!CF21 -> 0 | AE12: ='07.2026'!S21 -> 0 | AF12: ='07.2026'!T21 -> 0 | AG12: ='07.2026'!CK21 -> 0 | AH12: ='07.2026'!CF21 -> 0 | AI12: ='08.2026'!S21 -> 0 | AJ12: ='08.2026'!T21 -> 0 | AK12: ='08.2026'!CK21 -> 0 | AL12: ='08.2026'!CF21 -> 0 | AM12: ='09.2026'!S21 -> 0 | AN12: ='09.2026'!T21 -> 0 | AO12: ='09.2026'!CK21 -> 0 | AP12: ='09.2026'!CF21 -> 0 | AQ12: ='10.2026'!S21 -> 0 | AR12: ='10.2026'!T21 -> 0 | AS12: ='10.2026'!CK21 -> 0 | AT12: ='10.2026'!CF21 -> 0 | AU12: ='11.2026'!S21 -> 0 | AV12: ='11.2026'!T21 -> 0 | AW12: ='11.2026'!CK21 -> 0 | AX12: ='11.2026'!CF21 -> 0 | AY12: ='12.2026'!S21 -> 0 | AZ12: ='12.2026'!T21 -> 0 | BA12: ='12.2026'!CK21 -> 0 | BB12: ='12.2026'!CF21 -> 0
A13: =A12+1 -> 8 | B13: „Топлофикация – Разград” АД | C13: =SUM(G13,K13,O13,S13,W13,AA13,AE13,AI13,AM13,AQ13,AU13,AY13) -> 10114.8 | D13: =SUM(H13,L13,P13,T13,X13,AB13,AF13,AJ13,AN13,AR13,AV13,AZ13) -> 13461.532 | E13: =SUM(I13,M13,Q13,U13,Y13,AC13,AG13,AK13,AO13,AS13,AW13,BA13) -> 10457 | F13: =SUM(J13,N13,R13,V13,Z13,AD13,AH13,AL13,AP13,AT13,AX13,BB13) -> 0 | G13: ='01.2026'!S22 -> 1833.9 | H13: ='01.2026'!T22 -> 4373.313 | I13: ='01.2026'!CK22 -> 1816 | J13: ='01.2026'!CF22 -> 0 | K13: ='02.2026'!S22 -> 1742.4 | L13: ='02.2026'!T22 -> 3663.895 | M13: ='02.2026'!CK22 -> 1780 | N13: ='02.2026'!CF22 -> 0 | O13: ='03.2026'!S22 -> 1933.7 | P13: ='03.2026'!T22 -> 3278.753 | Q13: ='03.2026'!CK22 -> 1995 | R13: ='03.2026'!CF22 -> 0 | S13: ='04.2026'!S22 -> 1884.7 | T13: ='04.2026'!T22 -> 1982.885 | U13: ='04.2026'!CK22 -> 1951 | V13: ='04.2026'!CF22 -> 0 | W13: ='05.2026'!S22 -> 658.8 | X13: ='05.2026'!T22 -> 40.098 | Y13: ='05.2026'!CK22 -> 747 | Z13: ='05.2026'!CF22 -> 0 | AA13: ='06.2026'!S22 -> 277 | AB13: ='06.2026'!T22 -> 21.924 | AC13: ='06.2026'!CK22 -> 229 | AD13: ='06.2026'!CF22 -> 0 | AE13: ='07.2026'!S22 -> 564.4 | AF13: ='07.2026'!T22 -> 25.516 | AG13: ='07.2026'!CK22 -> 630 | AH13: ='07.2026'!CF22 -> 0 | AI13: ='08.2026'!S22 -> 615 | AJ13: ='08.2026'!T22 -> 34.723 | AK13: ='08.2026'!CK22 -> 667 | AL13: ='08.2026'!CF22 -> 0 | AM13: ='09.2026'!S22 -> 604.9 | AN13: ='09.2026'!T22 -> 40.425 | AO13: ='09.2026'!CK22 -> 642 | AP13: ='09.2026'!CF22 -> 0 | AQ13: ='10.2026'!S22 -> 0 | AR13: ='10.2026'!T22 -> 0 | AS13: ='10.2026'!CK22 -> 0 | AT13: ='10.2026'!CF22 -> 0 | AU13: ='11.2026'!S22 -> 0 | AV13: ='11.2026'!T22 -> 0 | AW13: ='11.2026'!CK22 -> 0 | AX13: ='11.2026'!CF22 -> 0 | AY13: ='12.2026'!S22 -> 0 | AZ13: ='12.2026'!T22 -> 0 | BA13: ='12.2026'!CK22 -> 0 | BB13: ='12.2026'!CF22 -> 0
A14: =A13+1 -> 9 | B14: „Топлофикация – ВТ” АД | C14: =SUM(G14,K14,O14,S14,W14,AA14,AE14,AI14,AM14,AQ14,AU14,AY14) -> 15849.02 | D14: =SUM(H14,L14,P14,T14,X14,AB14,AF14,AJ14,AN14,AR14,AV14,AZ14) -> 19205.409 | E14: =SUM(I14,M14,Q14,U14,Y14,AC14,AG14,AK14,AO14,AS14,AW14,BA14) -> 13165 | F14: =SUM(J14,N14,R14,V14,Z14,AD14,AH14,AL14,AP14,AT14,AX14,BB14) -> 0 | G14: ='01.2026'!S23 -> 1985.4 | H14: ='01.2026'!T23 -> 4852.782 | I14: ='01.2026'!CK23 -> 1690 | J14: ='01.2026'!CF23 -> 0 | K14: ='02.2026'!S23 -> 1927.2 | L14: ='02.2026'!T23 -> 4606.224 | M14: ='02.2026'!CK23 -> 1646 | N14: ='02.2026'!CF23 -> 0 | O14: ='03.2026'!S23 -> 2136.9 | P14: ='03.2026'!T23 -> 4083.277 | Q14: ='03.2026'!CK23 -> 1814 | R14: ='03.2026'!CF23 -> 0 | S14: ='04.2026'!S23 -> 1895.52 | T14: ='04.2026'!T23 -> 2395.597 | U14: ='04.2026'!CK23 -> 1595 | V14: ='04.2026'!CF23 -> 0 | W14: ='05.2026'!S23 -> 2002.1 | X14: ='05.2026'!T23 -> 461.418 | Y14: ='05.2026'!CK23 -> 1800 | Z14: ='05.2026'!CF23 -> 0 | AA14: ='06.2026'!S23 -> 1294 | AB14: ='06.2026'!T23 -> 317.73 | AC14: ='06.2026'!CK23 -> 943 | AD14: ='06.2026'!CF23 -> 0 | AE14: ='07.2026'!S23 -> 1325.1 | AF14: ='07.2026'!T23 -> 382.417 | AG14: ='07.2026'!CK23 -> 987 | AH14: ='07.2026'!CF23 -> 0 | AI14: ='08.2026'!S23 -> 1537.3 | AJ14: ='08.2026'!T23 -> 960.652 | AK14: ='08.2026'!CK23 -> 1300 | AL14: ='08.2026'!CF23 -> 0 | AM14: ='09.2026'!S23 -> 1745.5 | AN14: ='09.2026'!T23 -> 1145.312 | AO14: ='09.2026'!CK23 -> 1390 | AP14: ='09.2026'!CF23 -> 0 | AQ14: ='10.2026'!S23 -> 0 | AR14: ='10.2026'!T23 -> 0 | AS14: ='10.2026'!CK23 -> 0 | AT14: ='10.2026'!CF23 -> 0 | AU14: ='11.2026'!S23 -> 0 | AV14: ='11.2026'!T23 -> 0 | AW14: ='11.2026'!CK23 -> 0 | AX14: ='11.2026'!CF23 -> 0 | AY14: ='12.2026'!S23 -> 0 | AZ14: ='12.2026'!T23 -> 0 | BA14: ='12.2026'!CK23 -> 0 | BB14: ='12.2026'!CF23 -> 0
A15: =A14+1 -> 10 | B15: „Белла България“ АД | C15: =SUM(G15,K15,O15,S15,W15,AA15,AE15,AI15,AM15,AQ15,AU15,AY15) -> 0 | D15: =SUM(H15,L15,P15,T15,X15,AB15,AF15,AJ15,AN15,AR15,AV15,AZ15) -> 0 | E15: =SUM(I15,M15,Q15,U15,Y15,AC15,AG15,AK15,AO15,AS15,AW15,BA15) -> 0 | F15: =SUM(J15,N15,R15,V15,Z15,AD15,AH15,AL15,AP15,AT15,AX15,BB15) -> 0 | G15: ='01.2026'!S24 -> 0 | H15: ='01.2026'!T24 -> 0 | I15: ='01.2026'!CK24 -> 0 | J15: ='01.2026'!CF24 -> 0 | K15: ='02.2026'!S24 -> 0 | L15: ='02.2026'!T24 -> 0 | M15: ='02.2026'!CK24 -> 0 | N15: ='02.2026'!CF24 -> 0 | O15: ='03.2026'!S24 -> 0 | P15: ='03.2026'!T24 -> 0 | Q15: ='03.2026'!CK24 -> 0 | R15: ='03.2026'!CF24 -> 0 | S15: ='04.2026'!S24 -> 0 | T15: ='04.2026'!T24 -> 0 | U15: ='04.2026'!CK24 -> 0 | V15: ='04.2026'!CF24 -> 0 | W15: ='05.2026'!S24 -> 0 | X15: ='05.2026'!T24 -> 0 | Y15: ='05.2026'!CK24 -> 0 | Z15: ='05.2026'!CF24 -> 0 | AA15: ='06.2026'!S24 -> 0 | AB15: ='06.2026'!T24 -> 0 | AC15: ='06.2026'!CK24 -> 0 | AD15: ='06.2026'!CF24 -> 0 | AE15: ='07.2026'!S24 -> 0 | AF15: ='07.2026'!T24 -> 0 | AG15: ='07.2026'!CK24 -> 0 | AH15: ='07.2026'!CF24 -> 0 | AI15: ='08.2026'!S24 -> 0 | AJ15: ='08.2026'!T24 -> 0 | AK15: ='08.2026'!CK24 -> 0 | AL15: ='08.2026'!CF24 -> 0 | AM15: ='09.2026'!S24 -> 0 | AN15: ='09.2026'!T24 -> 0 | AO15: ='09.2026'!CK24 -> 0 | AP15: ='09.2026'!CF24 -> 0 | AQ15: ='10.2026'!S24 -> 0 | AR15: ='10.2026'!T24 -> 0 | AS15: ='10.2026'!CK24 -> 0 | AT15: ='10.2026'!CF24 -> 0 | AU15: ='11.2026'!S24 -> 0 | AV15: ='11.2026'!T24 -> 0 | AW15: ='11.2026'!CK24 -> 0 | AX15: ='11.2026'!CF24 -> 0 | AY15: ='12.2026'!S24 -> 0 | AZ15: ='12.2026'!T24 -> 0 | BA15: ='12.2026'!CK24 -> 0 | BB15: ='12.2026'!CF24 -> 0
A16: =A15+1 -> 11 | B16: ЧЗП „Румяна Величкова” | C16: =SUM(G16,K16,O16,S16,W16,AA16,AE16,AI16,AM16,AQ16,AU16,AY16) -> 5833.386 | D16: =SUM(H16,L16,P16,T16,X16,AB16,AF16,AJ16,AN16,AR16,AV16,AZ16) -> 6114.354 | E16: =SUM(I16,M16,Q16,U16,Y16,AC16,AG16,AK16,AO16,AS16,AW16,BA16) -> 5516 | F16: =SUM(J16,N16,R16,V16,Z16,AD16,AH16,AL16,AP16,AT16,AX16,BB16) -> 0 | G16: ='01.2026'!S25 -> 969.429 | H16: ='01.2026'!T25 -> 975.708 | I16: ='01.2026'!CK25 -> 946 | J16: ='01.2026'!CF25 -> 0 | K16: ='02.2026'!S25 -> 1109.833 | L16: ='02.2026'!T25 -> 1353.127 | M16: ='02.2026'!CK25 -> 1095 | N16: ='02.2026'!CF25 -> 0 | O16: ='03.2026'!S25 -> 1068 | P16: ='03.2026'!T25 -> 1074.279 | Q16: ='03.2026'!CK25 -> 946 | R16: ='03.2026'!CF25 -> 0 | S16: ='04.2026'!S25 -> 900.1 | T16: ='04.2026'!T25 -> 906.379 | U16: ='04.2026'!CK25 -> 867 | V16: ='04.2026'!CF25 -> 0 | W16: ='05.2026'!S25 -> 795.623 | X16: ='05.2026'!T25 -> 801.902 | Y16: ='05.2026'!CK25 -> 689 | Z16: ='05.2026'!CF25 -> 0 | AA16: ='06.2026'!S25 -> 0 | AB16: ='06.2026'!T25 -> 0 | AC16: ='06.2026'!CK25 -> 0 | AD16: ='06.2026'!CF25 -> 0 | AE16: ='07.2026'!S25 -> 35.732 | AF16: ='07.2026'!T25 -> 42.011 | AG16: ='07.2026'!CK25 -> 35 | AH16: ='07.2026'!CF25 -> 0 | AI16: ='08.2026'!S25 -> 244.881 | AJ16: ='08.2026'!T25 -> 244.881 | AK16: ='08.2026'!CK25 -> 243 | AL16: ='08.2026'!CF25 -> 0 | AM16: ='09.2026'!S25 -> 709.788 | AN16: ='09.2026'!T25 -> 716.067 | AO16: ='09.2026'!CK25 -> 695 | AP16: ='09.2026'!CF25 -> 0 | AQ16: ='10.2026'!S25 -> 0 | AR16: ='10.2026'!T25 -> 0 | AS16: ='10.2026'!CK25 -> 0 | AT16: ='10.2026'!CF25 -> 0 | AU16: ='11.2026'!S25 -> 0 | AV16: ='11.2026'!T25 -> 0 | AW16: ='11.2026'!CK25 -> 0 | AX16: ='11.2026'!CF25 -> 0 | AY16: ='12.2026'!S25 -> 0 | AZ16: ='12.2026'!T25 -> 0 | BA16: ='12.2026'!CK25 -> 0 | BB16: ='12.2026'!CF25 -> 0
A17: =A16+1 -> 12 | B17: „Декотекс” АД | C17: =SUM(G17,K17,O17,S17,W17,AA17,AE17,AI17,AM17,AQ17,AU17,AY17) -> 0 | D17: =SUM(H17,L17,P17,T17,X17,AB17,AF17,AJ17,AN17,AR17,AV17,AZ17) -> 0 | E17: =SUM(I17,M17,Q17,U17,Y17,AC17,AG17,AK17,AO17,AS17,AW17,BA17) -> 0 | F17: =SUM(J17,N17,R17,V17,Z17,AD17,AH17,AL17,AP17,AT17,AX17,BB17) -> 0 | G17: ='01.2026'!S26 -> 0 | H17: ='01.2026'!T26 -> 0 | I17: ='01.2026'!CK26 -> 0 | J17: ='01.2026'!CF26 -> 0 | K17: ='02.2026'!S26 -> 0 | L17: ='02.2026'!T26 -> 0 | M17: ='02.2026'!CK26 -> 0 | N17: ='02.2026'!CF26 -> 0 | O17: ='03.2026'!S26 -> 0 | P17: ='03.2026'!T26 -> 0 | Q17: ='03.2026'!CK26 -> 0 | R17: ='03.2026'!CF26 -> 0 | S17: ='04.2026'!S26 -> 0 | T17: ='04.2026'!T26 -> 0 | U17: ='04.2026'!CK26 -> 0 | V17: ='04.2026'!CF26 -> 0 | W17: ='05.2026'!S26 -> 0 | X17: ='05.2026'!T26 -> 0 | Y17: ='05.2026'!CK26 -> 0 | Z17: ='05.2026'!CF26 -> 0 | AA17: ='06.2026'!S26 -> 0 | AB17: ='06.2026'!T26 -> 0 | AC17: ='06.2026'!CK26 -> 0 | AD17: ='06.2026'!CF26 -> 0 | AE17: ='07.2026'!S26 -> 0 | AF17: ='07.2026'!T26 -> 0 | AG17: ='07.2026'!CK26 -> 0 | AH17: ='07.2026'!CF26 -> 0 | AI17: ='08.2026'!S26 -> 0 | AJ17: ='08.2026'!T26 -> 0 | AK17: ='08.2026'!CK26 -> 0 | AL17: ='08.2026'!CF26 -> 0 | AM17: ='09.2026'!S26 -> 0 | AN17: ='09.2026'!T26 -> 0 | AO17: ='09.2026'!CK26 -> 0 | AP17: ='09.2026'!CF26 -> 0 | AQ17: ='10.2026'!S26 -> 0 | AR17: ='10.2026'!T26 -> 0 | AS17: ='10.2026'!CK26 -> 0 | AT17: ='10.2026'!CF26 -> 0 | AU17: ='11.2026'!S26 -> 0 | AV17: ='11.2026'!T26 -> 0 | AW17: ='11.2026'!CK26 -> 0 | AX17: ='11.2026'!CF26 -> 0 | AY17: ='12.2026'!S26 -> 0 | AZ17: ='12.2026'!T26 -> 0 | BA17: ='12.2026'!CK26 -> 0 | BB17: ='12.2026'!CF26 -> 0
A18: =A17+1 -> 13 | B18: „Оранжерии Гимел“ АД - 500 дка | C18: =SUM(G18,K18,O18,S18,W18,AA18,AE18,AI18,AM18,AQ18,AU18,AY18) -> 15349.224 | D18: =SUM(H18,L18,P18,T18,X18,AB18,AF18,AJ18,AN18,AR18,AV18,AZ18) -> 18025.116 | E18: =SUM(I18,M18,Q18,U18,Y18,AC18,AG18,AK18,AO18,AS18,AW18,BA18) -> 12510 | F18: =SUM(J18,N18,R18,V18,Z18,AD18,AH18,AL18,AP18,AT18,AX18,BB18) -> 0 | G18: ='01.2026'!S27 -> 2541.6 | H18: ='01.2026'!T27 -> 2919.111 | I18: ='01.2026'!CK27 -> 2385 | J18: ='01.2026'!CF27 -> 0 | K18: ='02.2026'!S27 -> 2277.749 | L18: ='02.2026'!T27 -> 2999.549 | M18: ='02.2026'!CK27 -> 2138 | N18: ='02.2026'!CF27 -> 0 | O18: ='03.2026'!S27 -> 2233.887 | P18: ='03.2026'!T27 -> 2710.786 | Q18: ='03.2026'!CK27 -> 2095 | R18: ='03.2026'!CF27 -> 0 | S18: ='04.2026'!S27 -> 1301.143 | T18: ='04.2026'!T27 -> 1921.87 | U18: ='04.2026'!CK27 -> 1221 | V18: ='04.2026'!CF27 -> 0 | W18: ='05.2026'!S27 -> 1302.074 | X18: ='05.2026'!T27 -> 1336.504 | Y18: ='05.2026'!CK27 -> 213 | Z18: ='05.2026'!CF27 -> 0 | AA18: ='06.2026'!S27 -> 948.306 | AB18: ='06.2026'!T27 -> 1092.909 | AC18: ='06.2026'!CK27 -> 1 | AD18: ='06.2026'!CF27 -> 0 | AE18: ='07.2026'!S27 -> 1292.304 | AF18: ='07.2026'!T27 -> 1292.638 | AG18: ='07.2026'!CK27 -> 1213 | AH18: ='07.2026'!CF27 -> 0 | AI18: ='08.2026'!S27 -> 1658.517 | AJ18: ='08.2026'!T27 -> 1658.517 | AK18: ='08.2026'!CK27 -> 1558 | AL18: ='08.2026'!CF27 -> 0 | AM18: ='09.2026'!S27 -> 1793.644 | AN18: ='09.2026'!T27 -> 2093.232 | AO18: ='09.2026'!CK27 -> 1686 | AP18: ='09.2026'!CF27 -> 0 | AQ18: ='10.2026'!S27 -> 0 | AR18: ='10.2026'!T27 -> 0 | AS18: ='10.2026'!CK27 -> 0 | AT18: ='10.2026'!CF27 -> 0 | AU18: ='11.2026'!S27 -> 0 | AV18: ='11.2026'!T27 -> 0 | AW18: ='11.2026'!CK27 -> 0 | AX18: ='11.2026'!CF27 -> 0 | AY18: ='12.2026'!S27 -> 0 | AZ18: ='12.2026'!T27 -> 0 | BA18: ='12.2026'!CK27 -> 0 | BB18: ='12.2026'!CF27 -> 0
A19: =A18+1 -> 14 | B19: „Оранжерии Гимел“ АД - 200 дка | C19: =SUM(G19,K19,O19,S19,W19,AA19,AE19,AI19,AM19,AQ19,AU19,AY19) -> 17459.108 | D19: =SUM(H19,L19,P19,T19,X19,AB19,AF19,AJ19,AN19,AR19,AV19,AZ19) -> 20508.358 | E19: =SUM(I19,M19,Q19,U19,Y19,AC19,AG19,AK19,AO19,AS19,AW19,BA19) -> 15611 | F19: =SUM(J19,N19,R19,V19,Z19,AD19,AH19,AL19,AP19,AT19,AX19,BB19) -> 0 | G19: ='01.2026'!S28 -> 2916.956 | H19: ='01.2026'!T28 -> 3349.642 | I19: ='01.2026'!CK28 -> 2817 | J19: ='01.2026'!CF28 -> 0 | K19: ='02.2026'!S28 -> 2627.347 | L19: ='02.2026'!T28 -> 3458.19 | M19: ='02.2026'!CK28 -> 2537 | N19: ='02.2026'!CF28 -> 0 | O19: ='03.2026'!S28 -> 2676.923 | P19: ='03.2026'!T28 -> 3247.786 | Q19: ='03.2026'!CK28 -> 2586 | R19: ='03.2026'!CF28 -> 0 | S19: ='04.2026'!S28 -> 1363.847 | T19: ='04.2026'!T28 -> 2022.714 | U19: ='04.2026'!CK28 -> 1334 | V19: ='04.2026'!CF28 -> 0 | W19: ='05.2026'!S28 -> 1427.17 | X19: ='05.2026'!T28 -> 1465.729 | Y19: ='05.2026'!CK28 -> 109 | Z19: ='05.2026'!CF28 -> 0 | AA19: ='06.2026'!S28 -> 1015.866 | AB19: ='06.2026'!T28 -> 1175.254 | AC19: ='06.2026'!CK28 -> 970 | AD19: ='06.2026'!CF28 -> 0 | AE19: ='07.2026'!S28 -> 1459.495 | AF19: ='07.2026'!T28 -> 1459.879 | AG19: ='07.2026'!CK28 -> 1414 | AH19: ='07.2026'!CF28 -> 0 | AI19: ='08.2026'!S28 -> 1899.924 | AJ19: ='08.2026'!T28 -> 1899.924 | AK19: ='08.2026'!CK28 -> 1839 | AL19: ='08.2026'!CF28 -> 0 | AM19: ='09.2026'!S28 -> 2071.58 | AN19: ='09.2026'!T28 -> 2429.24 | AO19: ='09.2026'!CK28 -> 2005 | AP19: ='09.2026'!CF28 -> 0 | AQ19: ='10.2026'!S28 -> 0 | AR19: ='10.2026'!T28 -> 0 | AS19: ='10.2026'!CK28 -> 0 | AT19: ='10.2026'!CF28 -> 0 | AU19: ='11.2026'!S28 -> 0 | AV19: ='11.2026'!T28 -> 0 | AW19: ='11.2026'!CK28 -> 0 | AX19: ='11.2026'!CF28 -> 0 | AY19: ='12.2026'!S28 -> 0 | AZ19: ='12.2026'!T28 -> 0 | BA19: ='12.2026'!CK28 -> 0 | BB19: ='12.2026'!CF28 -> 0
A20: =A19+1 -> 15 | B20: „Оранжерии Гимел II“ EOOД | C20: =SUM(G20,K20,O20,S20,W20,AA20,AE20,AI20,AM20,AQ20,AU20,AY20) -> 3857.149 | D20: =SUM(H20,L20,P20,T20,X20,AB20,AF20,AJ20,AN20,AR20,AV20,AZ20) -> 8505.385 | E20: =SUM(I20,M20,Q20,U20,Y20,AC20,AG20,AK20,AO20,AS20,AW20,BA20) -> 3676 | F20: =SUM(J20,N20,R20,V20,Z20,AD20,AH20,AL20,AP20,AT20,AX20,BB20) -> 0 | G20: ='01.2026'!S29 -> 727.798 | H20: ='01.2026'!T29 -> 3725.542 | I20: ='01.2026'!CK29 -> 694 | J20: ='01.2026'!CF29 -> 0 | K20: ='02.2026'!S29 -> 1011.519 | L20: ='02.2026'!T29 -> 2376.958 | M20: ='02.2026'!CK29 -> 964 | N20: ='02.2026'!CF29 -> 0 | O20: ='03.2026'!S29 -> 1181.178 | P20: ='03.2026'!T29 -> 1279.847 | Q20: ='03.2026'!CK29 -> 1126 | R20: ='03.2026'!CF29 -> 0 | S20: ='04.2026'!S29 -> 641.247 | T20: ='04.2026'!T29 -> 745.776 | U20: ='04.2026'!CK29 -> 611 | V20: ='04.2026'!CF29 -> 0 | W20: ='05.2026'!S29 -> 197.618 | X20: ='05.2026'!T29 -> 252.485 | Y20: ='05.2026'!CK29 -> 188 | Z20: ='05.2026'!CF29 -> 0 | AA20: ='06.2026'!S29 -> 97.789 | AB20: ='06.2026'!T29 -> 124.777 | AC20: ='06.2026'!CK29 -> 93 | AD20: ='06.2026'!CF29 -> 0 | AE20: ='07.2026'!S29 -> 0 | AF20: ='07.2026'!T29 -> 0 | AG20: ='07.2026'!CK29 -> 0 | AH20: ='07.2026'!CF29 -> 0 | AI20: ='08.2026'!S29 -> 0 | AJ20: ='08.2026'!T29 -> 0 | AK20: ='08.2026'!CK29 -> 0 | AL20: ='08.2026'!CF29 -> 0 | AM20: ='09.2026'!S29 -> 0 | AN20: ='09.2026'!T29 -> 0 | AO20: ='09.2026'!CK29 -> 0 | AP20: ='09.2026'!CF29 -> 0 | AQ20: ='10.2026'!S29 -> 0 | AR20: ='10.2026'!T29 -> 0 | AS20: ='10.2026'!CK29 -> 0 | AT20: ='10.2026'!CF29 -> 0 | AU20: ='11.2026'!S29 -> 0 | AV20: ='11.2026'!T29 -> 0 | AW20: ='11.2026'!CK29 -> 0 | AX20: ='11.2026'!CF29 -> 0 | AY20: ='12.2026'!S29 -> 0 | AZ20: ='12.2026'!T29 -> 0 | BA20: ='12.2026'!CK29 -> 0 | BB20: ='12.2026'!CF29 -> 0
A21: =A20+1 -> 16 | B21: „Оранжерии-Петров дол“ ООД | C21: =SUM(G21,K21,O21,S21,W21,AA21,AE21,AI21,AM21,AQ21,AU21,AY21) -> 5784.5 | D21: =SUM(H21,L21,P21,T21,X21,AB21,AF21,AJ21,AN21,AR21,AV21,AZ21) -> 5784.5 | E21: =SUM(I21,M21,Q21,U21,Y21,AC21,AG21,AK21,AO21,AS21,AW21,BA21) -> 5060 | F21: =SUM(J21,N21,R21,V21,Z21,AD21,AH21,AL21,AP21,AT21,AX21,BB21) -> 0 | G21: ='01.2026'!S30 -> 1441 | H21: ='01.2026'!T30 -> 1441 | I21: ='01.2026'!CK30 -> 1232 | J21: ='01.2026'!CF30 -> 0 | K21: ='02.2026'!S30 -> 1230 | L21: ='02.2026'!T30 -> 1230 | M21: ='02.2026'!CK30 -> 1079 | N21: ='02.2026'!CF30 -> 0 | O21: ='03.2026'!S30 -> 1072.5 | P21: ='03.2026'!T30 -> 1072.5 | Q21: ='03.2026'!CK30 -> 930 | R21: ='03.2026'!CF30 -> 0 | S21: ='04.2026'!S30 -> 893 | T21: ='04.2026'!T30 -> 893 | U21: ='04.2026'!CK30 -> 785 | V21: ='04.2026'!CF30 -> 0 | W21: ='05.2026'!S30 -> 595 | X21: ='05.2026'!T30 -> 595 | Y21: ='05.2026'!CK30 -> 548 | Z21: ='05.2026'!CF30 -> 0 | AA21: ='06.2026'!S30 -> 0 | AB21: ='06.2026'!T30 -> 0 | AC21: ='06.2026'!CK30 -> 0 | AD21: ='06.2026'!CF30 -> 0 | AE21: ='07.2026'!S30 -> 0 | AF21: ='07.2026'!T30 -> 0 | AG21: ='07.2026'!CK30 -> 0 | AH21: ='07.2026'!CF30 -> 0 | AI21: ='08.2026'!S30 -> 0 | AJ21: ='08.2026'!T30 -> 0 | AK21: ='08.2026'!CK30 -> 0 | AL21: ='08.2026'!CF30 -> 0 | AM21: ='09.2026'!S30 -> 553 | AN21: ='09.2026'!T30 -> 553 | AO21: ='09.2026'!CK30 -> 486 | AP21: ='09.2026'!CF30 -> 0 | AQ21: ='10.2026'!S30 -> 0 | AR21: ='10.2026'!T30 -> 0 | AS21: ='10.2026'!CK30 -> 0 | AT21: ='10.2026'!CF30 -> 0 | AU21: ='11.2026'!S30 -> 0 | AV21: ='11.2026'!T30 -> 0 | AW21: ='11.2026'!CK30 -> 0 | AX21: ='11.2026'!CF30 -> 0 | AY21: ='12.2026'!S30 -> 0 | AZ21: ='12.2026'!T30 -> 0 | BA21: ='12.2026'!CK30 -> 0 | BB21: ='12.2026'!CF30 -> 0
A22: =A21+1 -> 17 | B22: „Инертстрой-Калето“ АД | C22: =SUM(G22,K22,O22,S22,W22,AA22,AE22,AI22,AM22,AQ22,AU22,AY22) -> 13290.499 | D22: =SUM(H22,L22,P22,T22,X22,AB22,AF22,AJ22,AN22,AR22,AV22,AZ22) -> 13290.499 | E22: =SUM(I22,M22,Q22,U22,Y22,AC22,AG22,AK22,AO22,AS22,AW22,BA22) -> 13639 | F22: =SUM(J22,N22,R22,V22,Z22,AD22,AH22,AL22,AP22,AT22,AX22,BB22) -> 0 | G22: ='01.2026'!S31 -> 2358.126 | H22: ='01.2026'!T31 -> 2358.126 | I22: ='01.2026'!CK31 -> 2430 | J22: ='01.2026'!CF31 -> 0 | K22: ='02.2026'!S31 -> 2134.493 | L22: ='02.2026'!T31 -> 2134.493 | M22: ='02.2026'!CK31 -> 2199 | N22: ='02.2026'!CF31 -> 0 | O22: ='03.2026'!S31 -> 2333.355 | P22: ='03.2026'!T31 -> 2333.355 | Q22: ='03.2026'!CK31 -> 2404 | R22: ='03.2026'!CF31 -> 0 | S22: ='04.2026'!S31 -> 1778.4 | T22: ='04.2026'!T31 -> 1778.4 | U22: ='04.2026'!CK31 -> 1832 | V22: ='04.2026'!CF31 -> 0 | W22: ='05.2026'!S31 -> 1562.76 | X22: ='05.2026'!T31 -> 1562.76 | Y22: ='05.2026'!CK31 -> 1610 | Z22: ='05.2026'!CF31 -> 0 | AA22: ='06.2026'!S31 -> 481.59 | AB22: ='06.2026'!T31 -> 481.59 | AC22: ='06.2026'!CK31 -> 443 | AD22: ='06.2026'!CF31 -> 0 | AE22: ='07.2026'!S31 -> 887.185 | AF22: ='07.2026'!T31 -> 887.185 | AG22: ='07.2026'!CK31 -> 913 | AH22: ='07.2026'!CF31 -> 0 | AI22: ='08.2026'!S31 -> 554.56 | AJ22: ='08.2026'!T31 -> 554.56 | AK22: ='08.2026'!CK31 -> 571 | AL22: ='08.2026'!CF31 -> 0 | AM22: ='09.2026'!S31 -> 1200.03 | AN22: ='09.2026'!T31 -> 1200.03 | AO22: ='09.2026'!CK31 -> 1237 | AP22: ='09.2026'!CF31 -> 0 | AQ22: ='10.2026'!S31 -> 0 | AR22: ='10.2026'!T31 -> 0 | AS22: ='10.2026'!CK31 -> 0 | AT22: ='10.2026'!CF31 -> 0 | AU22: ='11.2026'!S31 -> 0 | AV22: ='11.2026'!T31 -> 0 | AW22: ='11.2026'!CK31 -> 0 | AX22: ='11.2026'!CF31 -> 0 | AY22: ='12.2026'!S31 -> 0 | AZ22: ='12.2026'!T31 -> 0 | BA22: ='12.2026'!CK31 -> 0 | BB22: ='12.2026'!CF31 -> 0
... A42: =A41+1 -> 37 | B42: „ТЕЦ – Бобов дол“ АД | C42: =SUM(G42,K42,O42,S42,W42,AA42,AE42,AI42,AM42,AQ42,AU42,AY42) -> 477711.21 | D42: =SUM(H42,L42,P42,T42,X42,AB42,AF42,AJ42,AN42,AR42,AV42,AZ42) -> 477711.21 | E42: =SUM(I42,M42,Q42,U42,Y42,AC42,AG42,AK42,AO42,AS42,AW42,BA42) -> 223085 | F42: =SUM(J42,N42,R42,V42,Z42,AD42,AH42,AL42,AP42,AT42,AX42,BB42) -> 0 | G42: ='01.2026'!S51 -> 68612.4 | H42: ='01.2026'!T51 -> 68612.4 | I42: ='01.2026'!CK51 -> 30888 | J42: ='01.2026'!CF51 -> 0 | K42: ='02.2026'!S51 -> 64646.687 | L42: ='02.2026'!T51 -> 64646.687 | M42: ='02.2026'!CK51 -> 29392 | N42: ='02.2026'!CF51 -> 0 | O42: ='03.2026'!S51 -> 68508.792 | P42: ='03.2026'!T51 -> 68508.792 | Q42: ='03.2026'!CK51 -> 32164 | R42: ='03.2026'!CF51 -> 0 | S42: ='04.2026'!S51 -> 67885.126 | T42: ='04.2026'!T51 -> 67885.126 | U42: ='04.2026'!CK51 -> 31680 | V42: ='04.2026'!CF51 -> 0 | W42: ='05.2026'!S51 -> 56242.059 | X42: ='05.2026'!T51 -> 56242.059 | Y42: ='05.2026'!CK51 -> 27016 | Z42: ='05.2026'!CF51 -> 0 | AA42: ='06.2026'!S51 -> 30969.765 | AB42: ='06.2026'!T51 -> 30969.765 | AC42: ='06.2026'!CK51 -> 14652 | AD42: ='06.2026'!CF51 -> 0 | AE42: ='07.2026'!S51 -> 49140.323 | AF42: ='07.2026'!T51 -> 49140.323 | AG42: ='07.2026'!CK51 -> 22893 | AH42: ='07.2026'!CF51 -> 0 | AI42: ='08.2026'!S51 -> 27903.557 | AJ42: ='08.2026'!T51 -> 27903.557 | AK42: ='08.2026'!CK51 -> 13367 | AL42: ='08.2026'!CF51 -> 0 | AM42: ='09.2026'!S51 -> 43802.505 | AN42: ='09.2026'!T51 -> 43802.505 | AO42: ='09.2026'!CK51 -> 21033 | AP42: ='09.2026'!CF51 -> 0 | AQ42: ='10.2026'!S51 -> 0 | AR42: ='10.2026'!T51 -> 0 | AS42: ='10.2026'!CK51 -> 0 | AT42: ='10.2026'!CF51 -> 0 | AU42: ='11.2026'!S51 -> 0 | AV42: ='11.2026'!T51 -> 0 | AW42: ='11.2026'!CK51 -> 0 | AX42: ='11.2026'!CF51 -> 0 | AY42: ='12.2026'!S51 -> 0 | AZ42: ='12.2026'!T51 -> 0 | BA42: ='12.2026'!CK51 -> 0 | BB42: ='12.2026'!CF51 -> 0
B43: ОБЩО за всички централи през годината | C43: =SUM(C6:C42) -> 4347741.7 | D43: =SUM(D6:D42) -> 4281107.3 | E43: =SUM(E6:E42) -> 1949195 | F43: =SUM(F6:F42) -> 13320 | G43: =SUM(G6:G42) -> 753178.23 | H43: =SUM(H6:H42) -> 893492.34 | I43: =SUM(I6:I42) -> 318155 | J43: =SUM(J6:J42) -> 2372 | ... BB43: =SUM(BB6:BB42) -> 0

Sheet 01.2026
A1: ИЗДАДЕНИ/ПРЕХВЪРЛЕНИ ЕЛЕКТРОННИ СЕРТИФИКАТИ ЗА ПРОИЗХОД (е-СП) НА ЕЛЕКТРИЧЕСКА ЕНЕРГИЯ ОТ ВИСОКОЕФЕКТИВНО
A2: КОМБИНИРАНО ПРОИЗВОДСТВО (ВЕКП) ПРЕЗ ПЕРИОДА ОТ 01.01.2026 Г. ДО 31.01.2026 Г.
A3: БРОЙТЕЦ | B3: ПЕРИОД НА ПРОИЗВОДСТВО | D3: ЗАЯВЛЕНИЕ | F3: АКТУАЛНА ЗАПОВЕД НА МЕ ЗА УТВЪРЖДАВАНЕ НА АЛГОРИТЪМ | H3: СОБСТВЕНИК НА ЕНЕРГИЙНИЯ ОБЕКТ / ЦЕНТРАЛА С ОБЩА ЕЛЕКТРИЧЕСКА ИНСТАЛИРАНА МОЩНОСТ ПОД 500 kW | L3: ЕНЕРГИЕН ОБЕКТ / ЦЕНТРАЛА | AZ3: ИЗПОЛЗВАНИ СХЕМИ ЗА ПОДПОМАГАНЕ | BC3: НЕТНА ПРОИЗВЕДЕНА ЕЛ. ЕНЕРГИЯ ОТ ВЕКП НА ИЗХОД ТЕЦ | BD3: ПОПРАВКА НА НЕТНАТА ЕЕ ОТ ВЕКП ЧРЕЗ РЕШЕНИЕ НА КЕВР ЗА ФАКТИЧЕСКА ГРЕШКА | BE3: ИЗДАВАНЕ / ПРЕХВЪРЛЯНЕ НА е-СП СПОРЕД ПОДАДЕНИТЕ КОЛИЧЕСТВА КЪМ СЪОТВЕТНИТЕ ЕЛЕКТРИЧЕСКИ МРЕЖИ | CK3: ОБЩО ЕЛЕКТРОННИ СЕРТИФИКАТИ ЗА ПРОИЗХОД (е-СП)
H4: НАИМЕНОВАНИЕ | I4: БУЛСТАТ/ ЕИК | J4: СЕДАЛИЩЕ | L4: НАИМЕНОВАНИЕ | M4: МЕСТОПОЛОЖЕНИЕ | O4: ВИД ЦЕНТРАЛА | P4: ОБЩА ИНСТ. ЕЛЕКТР. МОЩНОСТ | Q4: ДОЛНА ТОПЛИНА НА ИЗГАРЯНЕ | S4: ТОПЛИННА ЕНЕРГИЯ | U4: ЕЛ. ЕНЕРГИЯ | V4: ИНСТАЛАЦИИ | AZ4: ВИД СХЕМА | BA4: РАЗМЕР | BB4: ДАТА ПОЛУЧАВАНЕ | BE4: ЕЛЕКТРОПРЕНОСНА МРЕЖА (ЕПМ) - ИЗДАВАНЕ / ПРЕХВЪРЛЯНЕ КЪМ ОБЩЕСТВЕН ДОСТАВЧИК | BO4: ЕЛЕКТРОРАЗПРЕДЕЛИТЕЛНА МРЕЖА (ЕРМ) - ИЗДАВАНЕ / ПРЕХВЪРЛЯНЕ КЪМ КРАЕН СНАБДИТЕЛ | BZ4: ИЗДАВАНЕ / ПРЕХВЪРЛЯНЕ НА е-СП ЗА НЕТНА ЕЛЕКТРИЧЕСКА ЕНЕРГИЯ ОТ ВЕКП ПО ЧЛ.119, АЛ.1 И АЛ.2 ОТ ЗЕ | CK4: ИЗДАДЕНИ / ПРЕХВЪРЛЕНИ е-СП ЗА ПОДАДЕНАТА ОБЩО ЕЕ ПО МРЕЖИТЕ
S5: КОМБИНИРАНА | T5: ПОТРЕБЕНА | U5: ОТ ВЕКП СЪГЛАСНО НАРЕДБА ПО ЧЛ.162, АЛ.3 ОТ ЗЕ /БРУТО/ | V5: КПГЦ | Y5: №1 ДВГ/ГТ или ТГ | AB5: №2 ДВГ/ГТ или ТГ | AE5: №3 ДВГ/ГТ или ТГ | AH5: №4 ДВГ/ГТ или ТГ | AK5: №5 ДВГ/ГТ или ТГ | AN5: №6 ДВГ/ГТ или ТГ | AQ5: №7 ДВГ/ГТ или ТГ | AT5: №8 ДВГ/ГТ или ТГ | AW5: №9 ДВГ/ГТ или ТГ | BE5: ДЯЛ НЕТНА ЕЕ ОТ ВЕКП ПОДАДЕНА ПО ЕПМ | BF5: ПОДАДЕНА ПЛЮС ДРОБЕН ОСТАТЪК ОТ МИНАЛ ПЕРИОД | BG5: ДРОБЕН ОСТАТЪК ЗА СЛЕДВАЩ ПЕРИОД | BH5: БРОЙ ПРЕХВЪРЛЕ- НИ е-СП СЪГЛ. ЧЛ. 163б, АЛ. 5 ОТ ЗЕ | BI5: БРОЙ е-СП КОРЕКЦИЯ ОТ МИНАЛИ ПЕРИОДИ | BJ5: ОКОНЧАТЕЛЕН БРОЙ ПРЕХВЪРЛЕНИ е-СП | BK5: УНИКАЛНИ ИДЕНТИФИКАЦИОННИ НОМЕРА НА е-СП | BM5: ВАЛИДНОСТ НА е-СП | BN5: СТАТУС НА е-СП | BO5: НАИМЕНОВАНИЕ НА КРАЕН СНАБДИТЕЛ, ЗА КОЙТО СА ПРЕДНАЗНАЧЕНИ е-СП | BP5: ДЯЛ НЕТНА ЕЕ ОТ ВЕКП ПОДАДЕНА ПО ЕРМ | BQ5: ПОДАДЕНА ПЛЮС ДРОБЕН ОСТАТЪК ОТ МИНАЛ ПЕРИОД | BR5: ДРОБЕН ОСТАТЪК ЗА СЛЕДВАЩ ПЕРИОД | BS5: БРОЙ ПРЕХВЪРЛЕ- НИ е-СП СЪГЛ. ЧЛ. 163б, АЛ. 5 ОТ ЗЕ | BT5: БРОЙ е-СП КОРЕКЦИЯ ОТ МИНАЛИ ПЕРИОДИ | BU5: ОКОНЧАТЕЛЕН БРОЙ ПРЕХВЪРЛЕНИ е-СП | BV5: УНИКАЛНИ ИДЕНТИФИКАЦИОННИ НОМЕРА НА е-СП | BX5: ВАЛИДНОСТ НА е-СП | BY5: СТАТУС НА е-СП | BZ5: НАИМЕНОВАНИЕ И/ИЛИ БРОЙ ДРУЖЕСТВА, НА КОИТО СЕ ПРЕХВЪРЛЯТ е-СП ЗА НЕТНИТЕ КОЛИЧЕСТВА ЕЕ ОТ ВЕКП: ПО ЧЛ.119, АЛ.1, Т.1; ПО ЧЛ. 119, АЛ. 2; И БЕЗ ПРЕФЕРЕНЦИАЛНА ЦЕНА | CA5: ДЯЛ НЕТНА ЕЕ ОТ ВЕКП ПОДАДЕНА ПО ЕПМ, ЕРМ ИЛИ ДЕ | CB5: ПОДАДЕНА ПЛЮС ДРОБЕН ОСТАТЪК ОТ МИНАЛ ПЕРИОД | CC5: ДРОБЕН ОСТАТЪК ЗА СЛЕДВАЩ ПЕРИОД | CD5: БРОЙ ПРЕХВЪР- ЛЕНИ е-СП | CE5: БРОЙ е-СП КОРЕКЦИЯ ОТ МИНАЛИ ПЕРИОДИ | CF5: ОКОНЧАТЕЛЕН БРОЙ ПРЕХВЪРЛЕНИ е-СП | CG5: УНИКАЛНИ ИДЕНТИФИКАЦИОННИ НОМЕРА НА ПРЕХВЪРЛЕНИТЕ е-СП | CI5: ВАЛИДНОСТ НА е-СП | CJ5: СТАТУС НА е-СП | CK5: ОБЩ БРОЙ е-СП | CL5: УНИКАЛНИ ИДЕНТИФИКАЦИОННИ НОМЕРА НА е-СП | CN5: ВАЛИДНОСТ НА е-СП | CO5: СТАТУС НА е-СП
V6: ИКОНОМ. ГОРИВО | W6: НОМИН. ЕФЕКТ. | X6: ДАТА ВЪВЕЖ. | Y6: ИКОНОМ. ГОРИВО | Z6: НОМИН. ЕФЕКТ. | AA6: ДАТА ВЪВЕЖ. | AB6: ИКОНОМ. ГОРИВО | AC6: НОМИН. ЕФЕКТ. | AD6: ДАТА ВЪВЕЖ. | AE6: ИКОНОМ. ГОРИВО | AF6: НОМИН. ЕФЕКТ. | AG6: ДАТА ВЪВЕЖ. | AH6: ИКОНОМ. ГОРИВО | AI6: НОМИН. ЕФЕКТ. | AJ6: ДАТА ВЪВЕЖ. | AK6: ИКОНОМ. ГОРИВО | AL6: НОМИН. ЕФЕКТ. | AM6: ДАТА ВЪВЕЖ. | AN6: ИКОНОМ. ГОРИВО | AO6: НОМИН. ЕФЕКТ. | AP6: ДАТА ВЪВЕЖ. | AQ6: ИКОНОМ. ГОРИВО | AR6: НОМИН. ЕФЕКТ. | AS6: ДАТА ВЪВЕЖ. | AT6: ИКОНОМ. ГОРИВО | AU6: НОМИН. ЕФЕКТ. | AV6: ДАТА ВЪВЕЖ. | AW6: ИКОНОМ. ГОРИВО | AX6: НОМИН. ЕФЕКТ. | AY6: ДАТА ВЪВЕЖ. | BK6: НАЧАЛЕН № | BL6: КРАЕН № | BV6: НАЧАЛЕН № | BW6: КРАЕН № | CG6: НАЧАЛЕН № | CH6: КРАЕН № | CL6: НАЧАЛЕН № | CM6: КРАЕН №
A7: _ | B7: ОТ ДАТА | C7: ДО ДАТА | D7: № | E7: ДАТА | F7: № | G7: ДАТА | H7: _ | I7: _ | J7: ОБЩИНА | K7: НАСЕЛЕНО МЯСТО | L7: _ | M7: ОБЩИНА | N7: НАСЕЛЕНО МЯСТО | O7: _ | P7: MW | Q7: kJ/nm3 | R7: kJ/kg | S7: MWh | T7: MWh | U7: MWh | V7: % | W7: % | X7: _ | Y7: % | Z7: % | AA7: _ | AB7: % | AC7: % | AD7: _ | AE7: % | AF7: % | AG7: _ | AH7: % | AI7: % | AJ7: _ | AK7: % | AL7: % | AM7: _ | AN7: % | AO7: % | AP7: _ | AQ7: % | AR7: % | AS7: _ | AT7: % | AU7: % | AV7: _ | AW7: % | AX7: % | AY7: _ | AZ7: _ | BA7: евро | BB7: _ | BC7: MWh | BD7: MWh | BE7: MWh | BF7: MWh | BG7: MWh | BH7: бр. (MWh) | BI7: бр. (+/-) | BJ7: бр. | BK7: _ | BL7: _ | BM7: _ | BN7: _ | BO7: _ | BP7: MWh | BQ7: MWh | BR7: MWh | BS7: бр. (MWh) | BT7: бр. (+/-) | BU7: бр. | BV7: _ | BW7: _ | BX7: _ | BY7: _ | BZ7: _ | CA7: MWh | CB7: MWh | CC7: MWh | CD7: бр. (MWh) | CE7: бр. (+/-) | CF7: бр. | CG7: _ | CH7: _ | CI7: _ | CJ7: _ | CK7: бр. | CL7: _ | CM7: _ | CN7: _ | CO7: _
A8: 1 | B8: 2 | C8: 3 | D8: 4 | E8: 5 | F8: 6 | G8: 7 | H8: 8 | I8: 9 | J8: 10 | K8: 11 | L8: 12 | M8: 13 | N8: 14 | O8: 15 | P8: 16 | Q8: 17 | R8: 18 | S8: 19 | T8: 20 | U8: 21 | V8: 22 | W8: 23 | X8: 24 | Y8: 25 | Z8: 26 | AA8: 27 | AB8: 28 | AC8: 29 | AD8: 30 | AE8: 31 | AF8: 32 | AG8: 33 | AH8: 34 | AI8: 35 | AJ8: 36 | AK8: 37 | AL8: 38 | AM8: 39 | AN8: 40 | AO8: 41 | AP8: 42 | AQ8: 43 | AR8: 44 | AS8: 45 | AT8: 46 | AU8: 47 | AV8: 48 | AW8: 49 | AX8: 50 | AY8: 51 | AZ8: 52 | BA8: 53 | BB8: 54 | BC8: 55 | BD8: 56 | BE8: 57 | BF8: 58 | BG8: 59 | BH8: 60 | BI8: 61 | BJ8: 62 | BK8: 63 | BL8: 64 | BM8: 65 | BN8: 66 | BO8: 67 | BP8: 68 | BQ8: 69 | BR8: 70 | BS8: 71 | BT8: 72 | BU8: 73 | BV8: 74 | BW8: 75 | BX8: 76 | BY8: 77 | BZ8: 78 | CA8: 79 | CB8: 80 | CC8: 81 | CD8: 82 | CE8: 83 | CF8: 84 | CG8: 85 | CH8: 86 | CI8: 87 | CJ8: 88 | CK8: 89 | CL8: 90 | CM8: 91 | CN8: 92 | CO8: 93
A9: =1 -> 1 | D9: Е-ЗСК-3 | E9: няма | F9: няма | G9: няма | H9: „МБАЛ – Търговище“ АД | I9: 125501290 | J9: Търговище | K9: гр. Търговище | L9: ТЕЦ „МБАЛ – Търговище“ | M9: Търговище | N9: гр. Търговище | O9: Топлофикационна към здравно заведение | P9: 0.104 | AA9: 39826 | AZ9: няма | BA9: няма | BB9: няма | BJ9: 0 | BO9: "Енерго-Про Продажби" АД | BU9: 0 | BV9: ЗСК-3-01-26/000000000 | BW9: ЗСК-3-01-26/000000000 | CF9: 0 | CK9: 0 | CL9: ЗСК-3-01-26/000000000 | CM9: ЗСК-3-01-26/000000000
A10: =A9+1 -> 2 | B10: 46023 | C10: 46053 | D10: Е-ЗСК-10 | E10: 46063 | F10: Е-РД-16-786 | G10: 46002 | H10: „Юлико – Евротрейд” ЕООД | I10: 115744408 | J10: Пловдив | K10: гр. Пловдив | L10: ТЕЦ "Стамболийски" | M10: Стамболийски | N10: гр. Стамболийски | O10: Топлофикационна за битови клиенти | P10: 0.495 | Q10: 34907 | S10: 441 | T10: 429 | U10: 334.2 | Y10: ДВГ 24.00 | Z10: ДВГ 85.46 | AA10: 37298 | AZ10: няма | BA10: няма | BB10: няма | BC10: 305.198 | BD10: 0 | BE10: няма | BF10: няма | BG10: няма | BH10: няма | BI10: няма | BJ10: 0 | BK10: няма | BL10: няма | BM10: няма | BN10: няма | BO10: „ЕВН България Електроснабдяване” ЕАД | BP10: 305.198 | BQ10: 305.958 | BR10: 0.958 | BS10: 305 | BT10: няма | BU10: 305 | BV10: ЗСК-10-01-26/000000001 | BW10: ЗСК-10-01-26/000000305 | BX10: 46418 | BY10: валидни | BZ10: няма | CA10: няма | CB10: няма | CC10: няма | CD10: няма | CE10: няма | CF10: 0 | CG10: няма | CH10: няма | CI10: няма | CJ10: няма | CK10: 305 | CL10: ЗСК-10-01-26/000000001 | CM10: ЗСК-10-01-26/000000305 | CN10: 46418 | CO10: валидни
A11: =A10+1 -> 3 | B11: 46023 | C11: 46053 | D11: Е-ЗСК-32 | E11: 46066 | F11: Е-РД-16-805 | G11: 46008 | H11: „Овердрайв” АД | I11: 131413539 | J11: Столична | K11: гр. София | L11: ТЕЦ „Овердрайв Тюнинг Център” | M11: Столична | N11: гр. София | O11: Топлофикационна към промишлени обекти | P11: 0.25 | Q11: 34912 | S11: 88.449 | T11: 88.449 | U11: 68.038 | AA11: 39772 | AB11: ДВГ 17.24 | AC11: ДВГ 79.46 | AD11: 39772 | AZ11: няма | BA11: няма | BB11: няма | BC11: 43.514 | BD11: 0 | BE11: няма | BF11: няма | BG11: няма | BH11: няма | BI11: няма | BJ11: 0 | BK11: няма | BL11: няма | BM11: няма | BN11: няма | BO11: „Електрохолд Продажби” АД | BP11: 43.514 | BQ11: 44.21 | BR11: 0.21 | BS11: 44 | BT11: няма | BU11: 44 | BV11: ЗСК-32-01-26/000000001 | BW11: ЗСК-32-01-26/000000044 | BX11: 46418 | BY11: валидни | BZ11: няма | CA11: няма | CB11: няма | CC11: няма | CD11: няма | CE11: няма | CF11: 0 | CG11: няма | CH11: няма | CI11: няма | CJ11: няма | CK11: 44 | CL11: ЗСК-32-01-26/000000001 | CM11: ЗСК-32-01-26/000000044 | CN11: 46418 | CO11: валидни
A12: =A11+1 -> 4 | D12: Е-ЗСК-35 | E12: няма | F12: няма | G12: няма | H12: „Овергаз Мрежи“ ЕАД | I12: 130533432 | J12: Столична | K12: гр. София | L12: ЛОЦ „Овча купел” | M12: Столична | N12: гр. София | O12: Топлофикационна за битови клиенти | P12: 0.17 | AA12: 39805 | AZ12: няма | BA12: няма | BB12: няма | BJ12: 0 | BU12: 0 | BV12: ЗСК-35-01-26/000000000 | BW12: ЗСК-35-01-26/000000000 | CF12: 0 | CK12: 0 | CL12: ЗСК-35-01-26/000000000 | CM12: ЗСК-35-01-26/000000000
A13: =A12+1 -> 5 | D13: Е-ЗСК-45 | E13: няма | F13: няма | G13: няма | H13: „УМБАЛ – Проф. д-р Стоян Киркович“ АД | I13: 123535874 | J13: Ст. Загора | K13: гр. Ст. Загора | L13: ТЕЦ „Газов когенерационен модул“ | M13: Ст. Загора | N13: гр. Ст. Загора | O13: Топлофикационна към здравно заведение | P13: 0.15 | AA13: 40676 | AZ13: няма | BA13: няма | BB13: няма | BJ13: 0 | BO13: „ЕВН България Електроснабдяване” ЕАД | BU13: 0 | BV13: ЗСК-45-01-26/000000000 | BW13: ЗСК-45-01-26/000000000 | CF13: 0 | CK13: 0 | CL13: ЗСК-45-01-26/000000000 | CM13: ЗСК-45-01-26/000000000
A14: БРОЙТЕЦ | B14: ПЕРИОД НА ПРОИЗВОДСТВО | D14: ЗАЯВЛЕНИЕ | F14: АКТУАЛНА ЗАПОВЕД НА МЕ ЗА УТВЪРЖДАВАНЕ НА АЛГОРИТЪМ | H14: СОБСТВЕНИК НА ЕНЕРГИЙНИЯ ОБЕКТ / ЦЕНТРАЛА С ОБЩА ЕЛЕКТРИЧЕСКА ИНСТАЛИРАНА МОЩНОСТ 500 kW И НАД 500 kW | L14: ЕНЕРГИЕН ОБЕКТ / ЦЕНТРАЛА | AZ14: ИЗПОЛЗВАНИ СХЕМИ ЗА ПОДПОМАГАНЕ | BC14: НЕТНА ПРОИЗВЕДЕНА ЕЛ. ЕНЕРГИЯ ОТ ВЕКП НА ИЗХОД ТЕЦ | BD14: ПОПРАВКА НА НЕТНАТА ЕЕ ОТ ВЕКП ЧРЕЗ РЕШЕНИЕ НА КЕВР ЗА ФАКТИЧЕСКА ГРЕШКА | BE14: ИЗДАВАНЕ / ПРЕХВЪРЛЯНЕ НА е-СП СПОРЕД ПОДАДЕНИТЕ КОЛИЧЕСТВА КЪМ СЪОТВЕТНИТЕ ЕЛЕКТРИЧЕСКИ МРЕЖИ | CK14: ОБЩО ЕЛЕКТРОННИ СЕРТИФИКАТИ ЗА ПРОИЗХОД (е-СП)
H15: НАИМЕНОВАНИЕ | I15: БУЛСТАТ/ ЕИК | J15: СЕДАЛИЩЕ | L15: НАИМЕНОВАНИЕ | M15: МЕСТОПОЛОЖЕНИЕ | O15: ВИД ЦЕНТРАЛА | P15: ОБЩА ИНСТ. ЕЛЕКТР. МОЩНОСТ | Q15: ДОЛНА ТОПЛИНА НА ИЗГАРЯНЕ | S15: ТОПЛИННА ЕНЕРГИЯ | U15: ЕЛ. ЕНЕРГИЯ | V15: ИНСТАЛАЦИИ | AZ15: ВИД СХЕМА | BA15: РАЗМЕР | BB15: ДАТА ПОЛУЧАВАНЕ | BE15: ЕЛЕКТРОПРЕНОСНА МРЕЖА (ЕПМ) - ИЗДАВАНЕ / ПРЕХВЪРЛЯНЕ КЪМ ФОНД "СИГУРНОСТ НА ЕЛЕКТРОЕНЕРГИЙНАТА СИСТЕМА" (ФСЕС) | BO15: ЕЛЕКТРОРАЗПРЕДЕЛИТЕЛНА МРЕЖА (ЕРМ) - ИЗДАВАНЕ / ПРЕХВЪРЛЯНЕ КЪМ ФОНД "СИГУРНОСТ НА ЕЛЕКТРОЕНЕРГИЙНАТА СИСТЕМА" (ФСЕС) | BZ15: ИЗДАВАНЕ / ПРЕХВЪРЛЯНЕ НА е-СП ЗА НЕТНА ЕЛЕКТРИЧЕСКА ЕНЕРГИЯ ОТ ВЕКП ПО ЧЛ.119, АЛ.1 И АЛ.2 ОТ ЗЕ | CK15: ИЗДАДЕНИ / ПРЕХВЪРЛЕНИ е-СП ЗА ПОДАДЕНАТА ОБЩО ЕЕ ПО МРЕЖИТЕ
S16: КОМБИНИРАНА | T16: ПОТРЕБЕНА | U16: ОТ ВЕКП СЪГЛАСНО НАРЕДБА ПО ЧЛ.162, АЛ.3 ОТ ЗЕ /БРУТО/ | V16: КПГЦ | Y16: №1 ДВГ/ГТ или ТГ | AB16: №2 ДВГ/ГТ или ТГ | AE16: №3 ДВГ/ГТ или ТГ | AH16: №4 ДВГ/ГТ или ТГ | AK16: №5 ДВГ/ГТ или ТГ | AN16: №6 ДВГ/ГТ или ТГ | AQ16: №7 ДВГ/ГТ или ТГ | AT16: №8 ДВГ/ГТ или ТГ | AW16: №9 ДВГ/ГТ или ТГ | BE16: ДЯЛ НЕТНА ЕЕ ОТ ВЕКП ПОДАДЕНА ПО ЕПМ (ЗА ФСЕС) | BF16: ПОДАДЕНА ПЛЮС ДРОБЕН ОСТАТЪК ОТ МИНАЛ ПЕРИОД | BG16: ДРОБЕН ОСТАТЪК ЗА СЛЕДВАЩ ПЕРИОД | BH16: БРОЙ ПРЕХВЪРЛЕ- НИ е-СП СЪГЛ. ЧЛ. 163б, АЛ. 6 ОТ ЗЕ | BI16: БРОЙ е-СП КОРЕКЦИЯ ОТ МИНАЛИ ПЕРИОДИ | BJ16: ОКОНЧАТЕЛЕН БРОЙ ПРЕХВЪРЛЕНИ е-СП | BK16: УНИКАЛНИ ИДЕНТИФИКАЦИОННИ НОМЕРА НА е-СП, ПРЕДНАЗНАЧЕНИ ЗА ФСЕС, ЗА КОЛИЧЕСТВА ПОДАДЕНИ ПО ЕПМ НА ЕСО ЕАД | BM16: ВАЛИДНОСТ НА е-СП | BN16: СТАТУС НА е-СП | BO16: ЕРМ, КЪМ КОЯТО Е ПРИСЪЕДИНЕН ПРОИЗВОДИТЕЛЯТ НА ЕЕ ОТ ВЕКП | BP16: ДЯЛ НЕТНА ЕЕ ОТ ВЕКП ПОДАДЕНА ПО ЕРМ (ЗА ФСЕС) | BQ16: ПОДАДЕНА ПЛЮС ДРОБЕН ОСТАТЪК ОТ МИНАЛ ПЕРИОД | BR16: ДРОБЕН ОСТАТЪК ЗА СЛЕДВАЩ ПЕРИОД | BS16: БРОЙ ПРЕХВЪРЛЕ- НИ е-СП СЪГЛ. ЧЛ. 163б, АЛ. 6 ОТ ЗЕ | BT16: БРОЙ е-СП КОРЕКЦИЯ ОТ МИНАЛИ ПЕРИОДИ | BU16: ОКОНЧАТЕЛЕН БРОЙ ПРЕХВЪРЛЕНИ е-СП | BV16: УНИКАЛНИ ИДЕНТИФИКАЦИОННИ НОМЕРА НА е-СП, ПРЕДНАЗНАЧЕНИ ЗА ФСЕС, ЗА КОЛИЧЕСТВА ПОДАДЕНИ ПО ЕРМ | BX16: ВАЛИДНОСТ НА е-СП | BY16: СТАТУС НА е-СП | BZ16: НАИМЕНОВАНИЕ И/ИЛИ БРОЙ ДРУЖЕСТВА, НА КОИТО СЕ ПРЕХВЪРЛЯТ е-СП ЗА НЕТНИТЕ КОЛИЧЕСТВА ЕЕ ОТ ВЕКП: ПО ЧЛ.119, АЛ.1, Т.1; ПО ЧЛ. 119, АЛ. 2; И БЕЗ ПРЕФЕРЕНЦИАЛНА ЦЕНА | CA16: ДЯЛ НЕТНА ЕЕ ОТ ВЕКП ПОДАДЕНА ПО ЕПМ, ЕРМ ИЛИ ДЕ | CB16: ПОДАДЕНА ПЛЮС ДРОБЕН ОСТАТЪК ОТ МИНАЛ ПЕРИОД | CC16: ДРОБЕН ОСТАТЪК ЗА СЛЕДВАЩ ПЕРИОД | CD16: БРОЙ ПРЕХВЪР- ЛЕНИ е-СП | CE16: БРОЙ е-СП КОРЕКЦИЯ ОТ МИНАЛИ ПЕРИОДИ | CF16: ОКОНЧАТЕЛЕН БРОЙ ПРЕХВЪРЛЕНИ е-СП | CG16: УНИКАЛНИ ИДЕНТИФИКАЦИОННИ НОМЕРА НА ПРЕХВЪРЛЕНИТЕ е-СП | CI16: ВАЛИДНОСТ НА е-СП | CJ16: СТАТУС НА е-СП | CK16: ОБЩ БРОЙ е-СП | CL16: УНИКАЛНИ ИДЕНТИФИКАЦИОННИ НОМЕРА НА е-СП | CN16: ВАЛИДНОСТ НА е-СП | CO16: СТАТУС НА е-СП
V17: ИКОНОМ. ГОРИВО | W17: НОМИН. ЕФЕКТ. | X17: ДАТА ВЪВЕЖ. | Y17: ИКОНОМ. ГОРИВО | Z17: НОМИН. ЕФЕКТ. | AA17: ДАТА ВЪВЕЖ. | AB17: ИКОНОМ. ГОРИВО | AC17: НОМИН. ЕФЕКТ. | AD17: ДАТА ВЪВЕЖ. | AE17: ИКОНОМ. ГОРИВО | AF17: НОМИН. ЕФЕКТ. | AG17: ДАТА ВЪВЕЖ. | AH17: ИКОНОМ. ГОРИВО | AI17: НОМИН. ЕФЕКТ. | AJ17: ДАТА ВЪВЕЖ. | AK17: ИКОНОМ. ГОРИВО | AL17: НОМИН. ЕФЕКТ. | AM17: ДАТА ВЪВЕЖ. | AN17: ИКОНОМ. ГОРИВО | AO17: НОМИН. ЕФЕКТ. | AP17: ДАТА ВЪВЕЖ. | AQ17: ИКОНОМ. ГОРИВО | AR17: НОМИН. ЕФЕКТ. | AS17: ДАТА ВЪВЕЖ. | AT17: ИКОНОМ. ГОРИВО | AU17: НОМИН. ЕФЕКТ. | AV17: ДАТА ВЪВЕЖ. | AW17: ИКОНОМ. ГОРИВО | AX17: НОМИН. ЕФЕКТ. | AY17: ДАТА ВЪВЕЖ. | BK17: НАЧАЛЕН № | BL17: КРАЕН № | BV17: НАЧАЛЕН № | BW17: КРАЕН № | CG17: НАЧАЛЕН № | CH17: КРАЕН № | CL17: НАЧАЛЕН № | CM17: КРАЕН №
A18: _ | B18: ОТ ДАТА | C18: ДО ДАТА | D18: № | E18: ДАТА | F18: № | G18: ДАТА | H18: _ | I18: _ | J18: ОБЩИНА | K18: НАСЕЛЕНО МЯСТО | L18: _ | M18: ОБЩИНА | N18: НАСЕЛЕНО МЯСТО | O18: _ | P18: MW | Q18: kJ/nm3 | R18: kJ/kg | S18: MWh | T18: MWh | U18: MWh | V18: % | W18: % | X18: _ | Y18: % | Z18: % | AA18: _ | AB18: % | AC18: % | AD18: _ | AE18: % | AF18: % | AG18: _ | AH18: % | AI18: % | AJ18: _ | AK18: % | AL18: % | AM18: _ | AN18: % | AO18: % | AP18: _ | AQ18: % | AR18: % | AS18: _ | AT18: % | AU18: % | AV18: _ | AW18: % | AX18: % | AY18: _ | AZ18: _ | BA18: евро | BB18: _ | BC18: MWh | BD18: MWh | BE18: MWh | BF18: MWh | BG18: MWh | BH18: бр. (MWh) | BI18: бр. (+/-) | BJ18: бр. | BK18: _ | BL18: _ | BM18: _ | BN18: _ | BO18: _ | BP18: MWh | BQ18: MWh | BR18: MWh | BS18: бр. (MWh) | BT18: бр. (+/-) | BU18: бр. | BV18: _ | BW18: _ | BX18: _ | BY18: _ | BZ18: _ | CA18: MWh | CB18: MWh | CC18: MWh | CD18: бр. (MWh) | CE18: бр. (+/-) | CF18: бр. | CG18: _ | CH18: _ | CI18: _ | CJ18: _ | CK18: бр. | CL18: _ | CM18: _ | CN18: _ | CO18: _
A19: 1 | B19: 2 | C19: 3 | D19: 4 | E19: 5 | F19: 6 | G19: 7 | H19: 8 | I19: 9 | J19: 10 | K19: 11 | L19: 12 | M19: 13 | N19: 14 | O19: 15 | P19: 16 | Q19: 17 | R19: 18 | S19: 19 | T19: 20 | U19: 21 | V19: 22 | W19: 23 | X19: 24 | Y19: 25 | Z19: 26 | AA19: 27 | AB19: 28 | AC19: 29 | AD19: 30 | AE19: 31 | AF19: 32 | AG19: 33 | AH19: 34 | AI19: 35 | AJ19: 36 | AK19: 37 | AL19: 38 | AM19: 39 | AN19: 40 | AO19: 41 | AP19: 42 | AQ19: 43 | AR19: 44 | AS19: 45 | AT19: 46 | AU19: 47 | AV19: 48 | AW19: 49 | AX19: 50 | AY19: 51 | AZ19: 52 | BA19: 53 | BB19: 54 | BC19: 55 | BD19: 56 | BE19: 57 | BF19: 58 | BG19: 59 | BH19: 60 | BI19: 61 | BJ19: 62 | BK19: 63 | BL19: 64 | BM19: 65 | BN19: 66 | BO19: 67 | BP19: 68 | BQ19: 69 | BR19: 70 | BS19: 71 | BT19: 72 | BU19: 73 | BV19: 74 | BW19: 75 | BX19: 76 | BY19: 77 | BZ19: 78 | CA19: 79 | CB19: 80 | CC19: 81 | CD19: 82 | CE19: 83 | CF19: 84 | CG19: 85 | CH19: 86 | CI19: 87 | CJ19: 88 | CK19: 89 | CL19: 90 | CM19: 91 | CN19: 92 | CO19: 93
A20: =A13+1 -> 6 | D20: Е-ЗСК-27 | E20: няма | F20: Е-РД-16-809 | G20: 46009 | H20: „Димитър Маджаров – 2” ЕООД | I20: 115033847 | J20: Пловдив | K20: гр. Пловдив | L20: ТЕЦ "Маджаров" | M20: Пловдив | N20: гр. Пловдив | O20: Топлофикационна към промишлени обекти | P20: 0.835 | AA20: 39171 | AZ20: няма | BA20: няма | BB20: няма | BJ20: 0 | BO20: „Електроразпределение Юг” ЕАД | BU20: 0 | BV20: ЗСК-27-01-26/000000000 | BW20: ЗСК-27-01-26/000000000 | CF20: 0 | CK20: 0 | CL20: ЗСК-27-01-26/000000000 | CM20: ЗСК-27-01-26/000000000
A21: =A20+1 -> 7 | D21: Е-ЗСК-1 | E21: няма | F21: Е-РД-16-699 | G21: 45965 | H21: „Алт Ко” ЕООД | I21: 206114571 | J21: Столична | K21: гр. София | L21: ТЕЦ "Оранжерии Кресна" | M21: Кресна | N21: гр. Кресна | O21: Топлофикационна към оранжерийни обекти | P21: 1.85 | AA21: 39490 | AZ21: няма | BA21: няма | BB21: няма | BJ21: 0 | BO21: „Електроразпределителни мрежи Запад” АД | BU21: 0 | BV21: ЗСК-1-01-26/000000000 | BW21: ЗСК-1-01-26/000000000 | CF21: 0 | CK21: 0 | CL21: ЗСК-1-01-26/000000000 | CM21: ЗСК-1-01-26/000000000
A22: =A21+1 -> 8 | B22: 46023 | C22: 46053 | D22: Е-ЗСК-4 | E22: 46059 | F22: Е-РД-16-802 | G22: 46008 | H22: „Топлофикация – Разград” АД | I22: 116019472 | J22: Разград | K22: гр. Разград | L22: ТЕЦ "Разград" | M22: Разград | N22: гр. Разград | O22: Топлофикационна за битови клиенти | P22: 3.041 | Q22: 34916 | S22: 1833.9 | T22: 4373.313 | U22: 1945.5 | Y22: ДВГ 22.12 | Z22: ДВГ 82.03 | AA22: 40120 | AZ22: няма | BA22: няма | BB22: няма | BC22: 1816.539 | BD22: 0 | BE22: няма | BF22: няма | BG22: няма | BH22: няма | BI22: няма | BJ22: 0 | BK22: няма | BL22: няма | BM22: няма | BN22: няма | BO22: "Електроразпределение Север" АД | BP22: 1816.539 | BQ22: 1816.867 | BR22: 0.867 | BS22: 1816 | BT22: няма | BU22: 1816 | BV22: ЗСК-4-01-26/000000001 | BW22: ЗСК-4-01-26/000001816 | BX22: 46418 | BY22: валидни | BZ22: няма | CA22: няма | CB22: няма | CC22: няма | CD22: няма | CE22: няма | CF22: 0 | CG22: няма | CH22: няма | CI22: няма | CJ22: няма | CK22: 1816 | CL22: ЗСК-4-01-26/000000001 | CM22: ЗСК-4-01-26/000001816 | CN22: 46418 | CO22: валидни
A23: =A22+1 -> 9 | B23: 46023 | C23: 46053 | D23: Е-ЗСК-6 | E23: 46064 | F23: Е-РД-16-777 | G23: 46000 | H23: „Топлофикация – ВТ” АД | I23: 104003977 | J23: В. Търново | K23: гр. В. Търново | L23: ТЕЦ "Топлофикация-ВТ" | M23: В. Търново | N23: гр. В. Търново | O23: Топлофикационна за битови клиенти | P23: 2.8 | Q23: 34916 | S23: 1985.4 | T23: 4852.782 | U23: 1894.172 | Y23: ДВГ 17.25 | Z23: ДВГ 78.24 | AA23: 39206 | AZ23: няма | BA23: няма | BB23: няма | BC23: 1690.494 | BD23: 0 | BE23: няма | BF23: няма | BG23: няма | BH23: няма | BI23: няма | BJ23: 0 | BK23: няма | BL23: няма | BM23: няма | BN23: няма | BO23: "Електроразпределение Север" АД | BP23: 1690.494 | BQ23: 1690.695 | BR23: 0.695 | BS23: 1690 | BT23: няма | BU23: 1690 | BV23: ЗСК-6-01-26/000000001 | BW23: ЗСК-6-01-26/000001690 | BX23: 46418 | BY23: валидни | BZ23: няма | CA23: няма | CB23: няма | CC23: няма | CD23: няма | CE23: няма | CF23: 0 | CG23: няма | CH23: няма | CI23: няма | CJ23: няма | CK23: 1690 | CL23: ЗСК-6-01-26/000000001 | CM23: ЗСК-6-01-26/000001690 | CN23: 46418 | CO23: валидни
A24: =A23+1 -> 10 | D24: Е-ЗСК-8 | E24: няма | F24: няма | G24: няма | H24: „Белла България“ АД | I24: 115141090 | J24: Столична | K24: гр. София | L24: ТЕЦ "Унибел" | M24: Ямбол | N24: гр. Ямбол | O24: Топлофикационна към промишлени обекти | P24: 1.05 | AA24: 39812 | AZ24: няма | BA24: няма | BB24: няма | BJ24: 0 | BO24: „Електроразпределение Юг” ЕАД | BU24: 0 | BV24: ЗСК-8-01-26/000000000 | BW24: ЗСК-8-01-26/000000000 | CF24: 0 | CK24: 0 | CL24: ЗСК-8-01-26/000000000 | CM24: ЗСК-8-01-26/000000000
A25: =A24+1 -> 11 | B25: 46023 | C25: 46053 | D25: Е-ЗСК-28 | E25: 46064 | F25: Е-РД-16-803 | G25: 46008 | H25: ЧЗП „Румяна Величкова” | I25: 131283540 | J25: Столична | K25: гр. София | L25: ТЕЦ "Оранжерия Трудовец" | M25: Ботевград | N25: с. Трудовец | O25: Топлофикационна към оранжерийни обекти | P25: 2.004 | Q25: 34907 | S25: 969.429 | T25: 975.708 | U25: 998.4 | Y25: ДВГ 24.32 | Z25: ДВГ 84.81 | AA25: 39377 | AZ25: няма | BA25: няма | BB25: няма | BC25: 946.094 | BD25: 0 | BE25: няма | BF25: няма | BG25: няма | BH25: няма | BI25: няма | BJ25: 0 | BK25: няма | BL25: няма | BM25: няма | BN25: няма | BO25: „Електроразпределителни мрежи Запад” АД | BP25: 946.094 | BQ25: 946.23 | BR25: 0.23 | BS25: 946 | BT25: няма | BU25: 946 | BV25: ЗСК-28-01-26/000000001 | BW25: ЗСК-28-01-26/00000946 | BX25: 46418 | BY25: валидни | BZ25: няма | CA25: няма | CB25: няма | CC25: няма | CD25: няма | CE25: няма | CF25: 0 | CG25: няма | CH25: няма | CI25: няма | CJ25: няма | CK25: 946 | CL25: ЗСК-28-01-26/000000001 | CM25: ЗСК-28-01-26/000000946 | CN25: 46418 | CO25: валидни
A26: =A25+1 -> 12 | D26: Е-ЗСК-31 | E26: няма | F26: Е-РД-16-790 | G26: 46006 | H26: „Декотекс” АД | I26: 829053852 | J26: Сливен | K26: гр. Сливен | L26: ТЕЦ "Декотекс" | M26: Сливен | N26: гр. Сливен | O26: Топлофикационна към промишлени обекти | P26: 2 | AA26: 40176 | AZ26: 15% от Инв. кредит - ЕБВР | BA26: 225000 | BB26: 39486 | BJ26: 0 | BO26: „Електроразпределение Юг” ЕАД | BU26: 0 | BV26: ЗСК-31-01-26/000000000 | BW26: ЗСК-31-01-26/000000000 | CF26: 0 | CK26: 0 | CL26: ЗСК-31-01-26/000000000 | CM26: ЗСК-31-01-26/000000000
A27: =A26+1 -> 13 | B27: 46023 | C27: 46053 | D27: Е-ЗСК-37 | E27: 46063 | F27: Е-РД-16-701 | G27: 45965 | H27: „Оранжерии Гимел“ АД - 500 дка | I27: 175479761 | J27: Столична | K27: гр. София | L27: ТЕЦ „Оранжерия 500 дка“ | M27: Пазарджик | N27: с. Братаница | O27: Топлофикационна към оранжерийни обекти | P27: 3.944 | Q27: 34907 | S27: 2541.6 | T27: 2919.111 | U27: 2510.642 | Y27: ДВГ 16.13 | Z27: ДВГ 76.61 | AA27: 41254 | AB27: ДВГ 17.72 | AC27: ДВГ 78.72 | AD27: 42259 | AZ27: няма | BA27: няма | BB27: няма | BC27: 2385.624 | BD27: 0 | BE27: няма | BF27: няма | BG27: няма | BH27: няма | BI27: няма | BJ27: 0 | BK27: няма | BL27: няма | BM27: няма | BN27: няма | BO27: „Електроразпределение Юг” ЕАД | BP27: 2385.624 | BQ27: 2385.714 | BR27: 0.714 | BS27: 2385 | BT27: няма | BU27: 2385 | BV27: ЗСК-37-01-26/000000001 | BW27: ЗСК-37-01-26/000002385 | BX27: 46418 | BY27: валидни | BZ27: няма | CA27: няма | CB27: няма | CC27: няма | CD27: няма | CE27: няма | CF27: 0 | CG27: няма | CH27: няма | CI27: няма | CJ27: няма | CK27: 2385 | CL27: ЗСК-37-01-26/000000001 | CM27: ЗСК-37-01-26/000002385 | CN27: 46418 | CO27: валидни
A28: =A27+1 -> 14 | B28: 46023 | C28: 46053 | D28: Е-ЗСК-38 | E28: 46063 | F28: Е-РД-16-700 | G28: 45965 | H28: „Оранжерии Гимел“ АД - 200 дка | I28: 175479761 | J28: Столична | K28: гр. София | L28: ТЕЦ „Оранжерия 200 дка“ | M28: Пазарджик | N28: с. Братаница | O28: Топлофикационна към оранжерийни обекти | P28: 4.871 | Q28: 34907 | S28: 2916.956 | T28: 3349.642 | U28: 2964.695 | Y28: ДВГ 17.35 | Z28: ДВГ 77.23 | AA28: 41254 | AB28: ДВГ 18.92 | AC28: ДВГ 79.43 | AD28: 41570 | AZ28: няма | BA28: няма | BB28: няма | BC28: 2817.09 | BD28: 0 | BE28: няма | BF28: няма | BG28: няма | BH28: няма | BI28: няма | BJ28: 0 | BK28: няма | BL28: няма | BM28: няма | BN28: няма | BO28: „Електроразпределение Юг” ЕАД | BP28: 2817.09 | BQ28: 2817.704 | BR28: 0.704 | BS28: 2817 | BT28: няма | BU28: 2817 | BV28: ЗСК-38-01-26/000000001 | BW28: ЗСК-38-01-26/000002817 | BX28: 46418 | BY28: валидни | BZ28: няма | CA28: няма | CB28: няма | CC28: няма | CD28: няма | CE28: няма | CF28: 0 | CG28: няма | CH28: няма | CI28: няма | CJ28: няма | CK28: 2817 | CL28: ЗСК-38-01-26/000000001 | CM28: ЗСК-38-01-26/000002817 | CN28: 46418 | CO28: валидни
A29: =A28+1 -> 15 | B29: 46023 | C29: 46053 | D29: Е-ЗСК-44 | E29: 46063 | F29: Е-РД-16-714 | G29: 45968 | H29: „Оранжерии Гимел II“ EOOД | I29: 831915153 | J29: Столична | K29: гр. София | L29: ТЕЦ „Оранжерия Левски“ | M29: Левски | N29: гр. Левски | O29: Топлофикационна към оранжерийни обекти | P29: 3.044 | Q29: 34912 | S29: 727.798 | T29: 3725.542 | U29: 729.957 | Y29: ДВГ 19.10 | Z29: ДВГ 79.64 | AA29: 41637 | AZ29: няма | BA29: няма | BB29: няма | BC29: 693.626 | BD29: 0 | BE29: няма | BF29: няма | BG29: няма | BH29: няма | BI29: няма | BJ29: 0 | BK29: няма | BL29: няма | BM29: няма | BN29: няма | BO29: „Електроразпределителни мрежи Запад” АД | BP29: 693.626 | BQ29: 694.441 | BR29: 0.441 | BS29: 694 | BT29: няма | BU29: 694 | BV29: ЗСК-44-01-26/000000001 | BW29: ЗСК-44-01-26/000000694 | BX29: 46418 | BY29: валидни | BZ29: няма | CA29: няма | CB29: няма | CC29: няма | CD29: няма | CE29: няма | CF29: 0 | CG29: няма | CH29: няма | CI29: няма | CJ29: няма | CK29: 694 | CL29: ЗСК-44-01-26/000000001 | CM29: ЗСК-44-01-26/000000694 | CN29: 46418 | CO29: валидни
A30: =A29+1 -> 16 | B30: 46023 | C30: 46053 | D30: Е-ЗСК-43 | E30: 46063 | F30: Е-РД-16-774 | G30: 46000 | H30: „Оранжерии-Петров дол“ ООД | I30: 813208144 | J30: Провадия | K30: с. Петров дол | L30: ТЕЦ "Оранжерии-Петров дол" | M30: Провадия | N30: с. Петров дол | O30: Топлофикационна към оранжерийни обекти | P30: 2 | Q30: 34907 | S30: 1441 | T30: 1441 | U30: 1293.09 | Y30: ДВГ 23.06 | Z30: ДВГ 83.98 | AA30: 41820 | AZ30: ДФ "Земеделие" | BA30: 358367.66 | BB30: 41943 | BC30: 1231.514 | BD30: 0 | BE30: няма | BF30: няма | BG30: няма | BH30: няма | BI30: няма | BJ30: 0 | BK30: няма | BL30: няма | BM30: няма | BN30: няма | BO30: "Електроразпределение Север" АД | BP30: 1231.514 | BQ30: 1232.334 | BR30: 0.334 | BS30: 1232 | BT30: няма | BU30: 1191 | BV30: ЗСК-43-01-26/000000001 | BW30: ЗСК-43-01-26/000001232 | BX30: 46418 | BY30: валидни | BZ30: няма | CA30: няма | CB30: няма | CC30: няма | CD30: няма | CE30: няма | CF30: 0 | CG30: няма | CH30: няма | CI30: няма | CJ30: няма | CK30: 1232 | CL30: ЗСК-43-01-26/000000001 | CM30: ЗСК-43-01-26/000001232 | CN30: 46418 | CO30: валидни
